BEGIN:VCALENDAR
VERSION:2.0
PRODID:-//What Race To Run - ECPv6.15.20//NONSGML v1.0//EN
CALSCALE:GREGORIAN
METHOD:PUBLISH
X-WR-CALNAME:What Race To Run
X-ORIGINAL-URL:https://whatracetorun.com
X-WR-CALDESC:Events for What Race To Run
REFRESH-INTERVAL;VALUE=DURATION:PT1H
X-Robots-Tag:noindex
X-PUBLISHED-TTL:PT1H
BEGIN:VTIMEZONE
TZID:Africa/Abidjan
BEGIN:STANDARD
TZOFFSETFROM:+0000
TZOFFSETTO:+0000
TZNAME:GMT
DTSTART:20250101T000000
END:STANDARD
END:VTIMEZONE
BEGIN:VEVENT
DTSTART;VALUE=DATE:20260118
DTEND;VALUE=DATE:20260119
DTSTAMP:20260419T191532
CREATED:20230721T000333Z
LAST-MODIFIED:20251212T134826Z
UID:4820-1768694400-1768780799@whatracetorun.com
SUMMARY:3M Half Marathon
DESCRIPTION:For many runners\, participating in a half marathon is a significant milestone in their running journey. The 3M Half Marathon is one of the most popular half marathons in the United States known for its fast and flat course. The event attracts runners from all levels of experience\, and if you are planning to run this race soon\, this post will provide you with everything you need to know. \n1. Course Description and Race Details:\nThe 3M Half Marathon course is a point-to-point route that starts near The Domain Shopping Center in North Austin and ends near the Texas State Capitol Building. The 13.1-mile race features a relatively flat course. With only a few minor inclines\, this race is ideal for beginners and experienced runners alike. \nThe race day usually kicks off with a 5k race that allows runners to warm up before the half marathon starts. The start time for the half marathon is generally around 7:30 am. Runners have a time limit of 4 hours to complete the race. Participants can expect hydration stations at every mile\, entertainment along the course route\, and finisher medals for everyone who crosses the finish line. \n[optin-monster slug=”u9ogigt36k4zbwkxi5az” followrules=”true”] \n2. Training for the 3M Half Marathon:\nTraining for a half marathon requires a lot of dedication\, hard work\, and a consistent training schedule. If you are a beginner\, make sure you give yourself enough time to train before the race. Start with a running program that gradually builds up your mileage and endurance. Additionally\, consider incorporating other forms of exercise such as strength training\, yoga\, and stretching\, which can help improve your running performance. \n3. Preparing for Race Day:\nOn race day\, make sure you arrive at the start line early enough to avoid unnecessary stress. Wear appropriate running gear\, including your shoes\, socks\, and clothing. If possible\, wear clothes that have breathable fabrics to help keep you dry and comfortable. \nCarry adequate hydration with you\, or plan on utilizing the plentiful water stops along the course. If you are used to running with a music player\, ensure you have it fully charged or bring along extra batteries. Don’t forget to eat a healthy breakfast consisting of carbohydrates and a little protein and fats to help sustain your energy levels throughout the race. Lastly\, bring along any necessary medication and inform the event organizers of any health issues or concerns. \n4. Recovery After the Half Marathon:\nAfter completing the 3M Half Marathon\, take time to recover\, and allow your body to rest and heal. Eat a balanced meal composed of carbohydrates and protein to help replenish the body with lost nutrients. Soak in an ice bath to relieve sore muscles\, or utilize an ice massage routine. Lastly\, keep hydrated and keep moving\, using low-intensity cardio or active recovery exercises to keep your muscles moving. \nThe 3M Half Marathon is an event worth considering for runners new to the half marathon scene\, or those eager to try a new and exciting race. Knowing the race details and following through with a proper training schedule is important. Preparing for the race day\, and recovering properly from the race can all contribute towards having an enjoyable and successful experience doing this half marathon. With proper preparation and mindset\, anyone with the determination and grit to finish can cross that finish line. \nCheck out our race catalog for more exciting races.
URL:https://whatracetorun.com/event/3m-half-marathon/
LOCATION:3M Half Marathon | Location\, Stonelake Blvd\, Austin\, Texas\, 78759\, United States
CATEGORIES:Road Races
ATTACH;FMTTYPE=image/jpeg:https://whatracetorun.com/wp-content/uploads/2023/07/3m-half-marathon.jpg
END:VEVENT
END:VCALENDAR