BEGIN:VCALENDAR
VERSION:2.0
PRODID:-//What Race To Run - ECPv6.15.20//NONSGML v1.0//EN
CALSCALE:GREGORIAN
METHOD:PUBLISH
X-WR-CALNAME:What Race To Run
X-ORIGINAL-URL:https://whatracetorun.com
X-WR-CALDESC:Events for What Race To Run
REFRESH-INTERVAL;VALUE=DURATION:PT1H
X-Robots-Tag:noindex
X-PUBLISHED-TTL:PT1H
BEGIN:VTIMEZONE
TZID:America/Los_Angeles
BEGIN:DAYLIGHT
TZOFFSETFROM:-0800
TZOFFSETTO:-0700
TZNAME:PDT
DTSTART:20250309T100000
END:DAYLIGHT
BEGIN:STANDARD
TZOFFSETFROM:-0700
TZOFFSETTO:-0800
TZNAME:PST
DTSTART:20251102T090000
END:STANDARD
BEGIN:DAYLIGHT
TZOFFSETFROM:-0800
TZOFFSETTO:-0700
TZNAME:PDT
DTSTART:20260308T100000
END:DAYLIGHT
BEGIN:STANDARD
TZOFFSETFROM:-0700
TZOFFSETTO:-0800
TZNAME:PST
DTSTART:20261101T090000
END:STANDARD
BEGIN:DAYLIGHT
TZOFFSETFROM:-0800
TZOFFSETTO:-0700
TZNAME:PDT
DTSTART:20270314T100000
END:DAYLIGHT
BEGIN:STANDARD
TZOFFSETFROM:-0700
TZOFFSETTO:-0800
TZNAME:PST
DTSTART:20271107T090000
END:STANDARD
END:VTIMEZONE
BEGIN:VEVENT
DTSTART;TZID=America/Los_Angeles:20260816T061500
DTEND;TZID=America/Los_Angeles:20260816T111500
DTSTAMP:20260422T155936
CREATED:20260422T051956Z
LAST-MODIFIED:20260422T052320Z
UID:37454-1786860900-1786878900@whatracetorun.com
SUMMARY:America's Finest City Half Marathon & 5K
DESCRIPTION:America’s Finest City Half Marathon: San Diego’s Most Iconic 13.1\nSan Diego calls itself “America’s Finest City” — and on August 16\, 2026\, runners get to prove it on foot. The America’s Finest City Half Marathon & 5K is entering its 49th year\, making it one of the longest-running San Diego road races in existence. The point-to-point half marathon covers some of the city’s most dramatic and historically rich terrain\, drawing 5\,000–10\,000 participants to what many consider the most scenic 13.1 miles in Southern California. \nThe Course\nThe half marathon kicks off at 6:15 AM atop Point Loma at historic Cabrillo National Monument — already a jaw-dropping setting with panoramic views of the Pacific Ocean and San Diego Bay. From there\, the course descends through Historic Fort Rosecrans\, sweeps along San Diego Bay and Harbor Island\, and passes the iconic Star of India tall ship at the waterfront. Runners then push through downtown San Diego before climbing to the finish line in historic Balboa Park. The 5K is a flat loop course through the heart of Balboa Park\, perfect for beginners or those looking for a faster experience in one of California’s finest urban parks. \nRace Day Experience\nWith a 6:15 AM start\, the early morning air off San Diego Bay makes for ideal running conditions in mid-August. The finish in Balboa Park transforms into a full-on festival: live music\, a beer garden (complimentary beer for 21+)\, and plenty of food and community energy to celebrate your 13.1. Every finisher receives a technical fabric shirt — not the cotton tee variety. The AFC Half also serves as the final race in the 2026 SoCal Triple Crown series\, making it a target race for serious local runners chasing that combined title. \nWhy Run America’s Finest City Half Marathon?\nNearly five decades of continuous history make the AFC Half one of the most trusted races on the California racing calendar. The course is genuinely point-to-point with no repeated sections — you earn every mile of elevation change and finish in one of San Diego’s most beautiful parks. Virtual race options are available for those who want to participate without traveling. If you’re building toward a major half marathon or just want an experience that captures what San Diego running is all about\, this is the one. \nTravel & Logistics\nThe race starts at Cabrillo National Monument on the tip of Point Loma\, accessible via Cabrillo Memorial Drive. Because the course is point-to-point\, plan for transportation from Balboa Park back to the start — carpooling or rideshare works well given the early hour. Balboa Park sits centrally in San Diego with easy access from I-5 and I-163. Downtown San Diego hotels are well-positioned for this race. If you’re flying in\, San Diego International Airport is minutes from Point Loma. \nHow to Register\nSecure your spot for the 49th Annual America’s Finest City Half Marathon & 5K through Race Roster. For full race details\, course maps\, and event updates\, visit the official AFC Half website. Don’t wait — a race with 49 years of history and 5\,000+ participants fills up.
URL:https://whatracetorun.com/event/americas-finest-city-half-marathon-5k-san-diego/
LOCATION:Cabrillo National Monument\, 1800 Cabrillo Memorial Dr\, San Diego\, CA\, 92106\, United States
CATEGORIES:Road Races
ATTACH;FMTTYPE=image/png:https://whatracetorun.com/wp-content/uploads/2026/04/americas-finest-city-half-marathon-5k-san-diego-scaled.png
END:VEVENT
END:VCALENDAR