BEGIN:VCALENDAR
VERSION:2.0
PRODID:-//What Race To Run - ECPv6.15.20//NONSGML v1.0//EN
CALSCALE:GREGORIAN
METHOD:PUBLISH
X-WR-CALNAME:What Race To Run
X-ORIGINAL-URL:https://whatracetorun.com
X-WR-CALDESC:Events for What Race To Run
REFRESH-INTERVAL;VALUE=DURATION:PT1H
X-Robots-Tag:noindex
X-PUBLISHED-TTL:PT1H
BEGIN:VTIMEZONE
TZID:UTC
BEGIN:STANDARD
TZOFFSETFROM:+0000
TZOFFSETTO:+0000
TZNAME:UTC
DTSTART:20250101T000000
END:STANDARD
END:VTIMEZONE
BEGIN:VEVENT
DTSTART;VALUE=DATE:20260306
DTEND;VALUE=DATE:20260308
DTSTAMP:20260419T144430
CREATED:20230707T192315Z
LAST-MODIFIED:20251212T141354Z
UID:4245-1772755200-1772927999@whatracetorun.com
SUMMARY:Antelope Canyon Ultras
DESCRIPTION:Antelope Canyon Ultras are known to be one of the best ultramarathon races in the world. With its challenging routes and breathtaking views\, it’s no wonder that many runners from around the globe come to this spectacular event. Located in Page\, Arizona\, this event has become a popular destination for those who love running and adventure. If you are planning to participate in Antelope Canyon Ultras or just want to know more about the event\, this blog post is for you. We have compiled the essential information you need to know about this incredible ultramarathon. \nThe Courses:\nThe Antelope Canyon Ultras offer four courses\, which are the 100 miler\, 50-miler\, 55K and half marathon. The 50-mile and 55K races are the most challenging ones\, while the half marathon and 10K are perfect for those who prefer a more relaxed pace. All of the routes take place in the canyons of the Navajo Nation\, providing a unique running experience that you won’t find anywhere else. The terrain of the courses includes sand\, rocks\, and steep inclines\, so be prepared for the physical demands of the race. \nThe Race:\nThe event typically takes place in February\, making the weather conditions unpredictable. Runners can experience anything from freezing temperatures to warm sunshine\, so it is essential to bring appropriate clothing for the varied climate. Carry enough water and snacks\, especially if you are traveling longer routes. One checkpoint station is located midway through the 50-mile and 55K races\, and two food stations are on the course to provide snacks and hydration. \n  \nThe beauty of the canyons of the Navajo Nation is a highlight of the Antelope Canyon Ultras. The runners can experience sensational views of the breathtaking sandstone formations\, the towering cliffs\, and the enchanting canyons. Racers usually leave Page\, Arizona\, before sunrise\, allowing them to watch the vibrant display of colors in the sky and witness the sunrise over the canyons. Runners are also given the privilege to experience the undisturbed beauty of the Navajo Nation. \nThe Community:\nApart from the stunning scenery\, the event also has an incredible atmosphere. This event is perfect for runners who appreciate the supportive and friendly community of ultramarathoners. The event organizers\, volunteers\, and fellow runners are welcoming\, and the runners can share stories and make new friends in this incredible event. The post-race festivities include an award ceremony\, food\, drinks\, and congratulatory handshakes and high-fives. \nAntelope Canyon Ultras are more than just a race. It is an opportunity for runners to experience breathtaking views\, challenge themselves physically and mentally\, and meet new friends in the ultramarathon community. If you are ready to make this trip\, be prepared\, train well and be sure to savor the whole experience. Remember to bring along your camera\, as you’ll want to capture the moment this epic life event you’ll never forget. So\, pack your bags and start preparing for the adventure of a lifetime. \nCheck out our race catalog for more exciting races.
URL:https://whatracetorun.com/event/antelope-canyon-ultras/
LOCATION:Antelope Canyon Ultras | Location\, 477 Haul Rd\, Page\, Arizona\, 86040\, United States
CATEGORIES:Road Races,Trail Races
ATTACH;FMTTYPE=image/jpeg:https://whatracetorun.com/wp-content/uploads/2023/07/antelope-canyon-ultras.jpg
END:VEVENT
END:VCALENDAR