BEGIN:VCALENDAR
VERSION:2.0
PRODID:-//What Race To Run - ECPv6.15.20//NONSGML v1.0//EN
CALSCALE:GREGORIAN
METHOD:PUBLISH
X-WR-CALNAME:What Race To Run
X-ORIGINAL-URL:https://whatracetorun.com
X-WR-CALDESC:Events for What Race To Run
REFRESH-INTERVAL;VALUE=DURATION:PT1H
X-Robots-Tag:noindex
X-PUBLISHED-TTL:PT1H
BEGIN:VTIMEZONE
TZID:America/Los_Angeles
BEGIN:DAYLIGHT
TZOFFSETFROM:-0800
TZOFFSETTO:-0700
TZNAME:PDT
DTSTART:20250309T100000
END:DAYLIGHT
BEGIN:STANDARD
TZOFFSETFROM:-0700
TZOFFSETTO:-0800
TZNAME:PST
DTSTART:20251102T090000
END:STANDARD
BEGIN:DAYLIGHT
TZOFFSETFROM:-0800
TZOFFSETTO:-0700
TZNAME:PDT
DTSTART:20260308T100000
END:DAYLIGHT
BEGIN:STANDARD
TZOFFSETFROM:-0700
TZOFFSETTO:-0800
TZNAME:PST
DTSTART:20261101T090000
END:STANDARD
BEGIN:DAYLIGHT
TZOFFSETFROM:-0800
TZOFFSETTO:-0700
TZNAME:PDT
DTSTART:20270314T100000
END:DAYLIGHT
BEGIN:STANDARD
TZOFFSETFROM:-0700
TZOFFSETTO:-0800
TZNAME:PST
DTSTART:20271107T090000
END:STANDARD
END:VTIMEZONE
BEGIN:VEVENT
DTSTART;TZID=America/Los_Angeles:20260801T070000
DTEND;TZID=America/Los_Angeles:20260801T120000
DTSTAMP:20260422T155712
CREATED:20260422T051958Z
LAST-MODIFIED:20260422T052357Z
UID:37456-1785567600-1785585600@whatracetorun.com
SUMMARY:Balboa Park 8 Miler
DESCRIPTION:Balboa Park 8 Miler: San Diego’s Oldest Continuously Run Race\nSome races are just events. The Balboa Park 8 Miler is a piece of San Diego history. Founded in 1955 and now entering its 72nd consecutive year\, this is the longest consecutively run race in San Diego and one of the oldest distance running events in the entire United States. On August 1\, 2026\, just 2\,000 runners will have the privilege of toeing the line for an 8-mile journey through the heart of one of California’s most beloved urban parks. \nThe Course\nThe course starts near the Organ Pavilion at 7:00 AM and winds through 8 miles of Balboa Park’s most iconic terrain. Expect rolling hills — this is not a flat course — as the route moves through the park’s historic museum row\, Spanish Colonial Revival architecture\, formal gardens\, and canyon edges. The terrain demands a bit of strength and strategy\, rewarding runners with some of the most beautiful urban scenery in San Diego. The rolling character of the park keeps the race honest and memorable in equal measure. \nRace Day Experience\nThe Balboa Park 8 Miler is deliberately intimate. With a hard cap of 2\,000 participants — a limit maintained specifically to preserve the historic course and experience — the race feels like a true community event rather than a mass-market spectacle. The awards ceremony follows at 9:10 AM\, so even if you’re not podium-bound\, the morning is wrapped up efficiently. Organized by the San Diego Track Club\, the event is well-run\, no-frills\, and deeply respected by the local running community. \nWhy Run the Balboa Park 8 Miler?\nThere’s only one San Diego road race that’s been run continuously since 1955 — and this is it. The 8-mile distance is a refreshing alternative to the crowded half marathon circuit\, offering a genuine challenge without the full 13.1 commitment. Running through Balboa Park at dawn\, past museums that were old before most runners were born\, is an experience that puts you in a lineage of San Diego runners stretching back over seven decades. If you love racing history as much as you love running\, this one belongs on your calendar. \nTravel & Logistics\nBalboa Park sits in the heart of San Diego\, easily accessible from downtown via Park Boulevard or from I-163. Ample parking is available throughout the park complex. The park is also serviced by the Metropolitan Transit System if you prefer to leave the car behind. With a 7:00 AM start and awards at 9:10 AM\, the morning wraps up with plenty of time to explore Balboa Park’s museums\, gardens\, and cafes — a perfect post-race reward. Midrange and boutique hotels in Hillcrest and the North Park neighborhoods are within walking or cycling distance. \nHow to Register\nRegistration for the 72nd Annual Balboa Park 8 Miler opens through the official race website. With only 2\,000 spots available\, this race sells out early — don’t sleep on it. Register as soon as registration opens to secure your place in San Diego running history.
URL:https://whatracetorun.com/event/balboa-park-8-miler-san-diego/
LOCATION:Balboa Park\, Balboa Park (exact start TBD — traditionally near Organ Pavilion)\, San Diego\, CA\, 92101\, United States
CATEGORIES:Road Races
ATTACH;FMTTYPE=image/png:https://whatracetorun.com/wp-content/uploads/2026/04/balboa-park-8-miler-san-diego-scaled.png
END:VEVENT
END:VCALENDAR