BEGIN:VCALENDAR
VERSION:2.0
PRODID:-//What Race To Run - ECPv6.15.20//NONSGML v1.0//EN
CALSCALE:GREGORIAN
METHOD:PUBLISH
X-WR-CALNAME:What Race To Run
X-ORIGINAL-URL:https://whatracetorun.com
X-WR-CALDESC:Events for What Race To Run
REFRESH-INTERVAL;VALUE=DURATION:PT1H
X-Robots-Tag:noindex
X-PUBLISHED-TTL:PT1H
BEGIN:VTIMEZONE
TZID:UTC
BEGIN:STANDARD
TZOFFSETFROM:+0000
TZOFFSETTO:+0000
TZNAME:UTC
DTSTART:20250101T000000
END:STANDARD
END:VTIMEZONE
BEGIN:VEVENT
DTSTART;VALUE=DATE:20260420
DTEND;VALUE=DATE:20260421
DTSTAMP:20260421T084241
CREATED:20230610T043846Z
LAST-MODIFIED:20260206T230517Z
UID:3843-1776643200-1776729599@whatracetorun.com
SUMMARY:Boston Marathon | BAA
DESCRIPTION:Prestigious & Historical: Boston Marathon (World Major)\nThe Boston Marathon is one of the oldest and most prestigious marathons in the world. This race attracts runners from all over the world. Runners come to test their endurance\, challenge their boundaries\, and make history. This marathon was first run in 1897\, and since then\, it has become an iconic event that not only celebrates athleticism but also Boston’s rich history. In this blog post\, we’ll take a deep dive into the Boston Marathon\, from its origin to its significance as a world-class marathon event. \nThe History:\nThe Boston Marathon has a unique and fascinating history that sets it apart from other marathons in the world. This race was first run on April 19\, 1897. With only 15 participants who ran a 24.5-mile course. The course was later modified to the standard 26.2-mile course in 1924\, and since then\, it has remained the same. The marathon was inspired by the ancient Greek race\, and the winner of the first Boston marathon\, John J. McDermott\, finished in about 2 hours and 55 minutes. Since then\, the race has grown to over 30\,000 participants from all over the world. \n[optin-monster slug=”u9ogigt36k4zbwkxi5az” followrules=”true”] \nThe Boston Marathon is not just a race; it is a symbol of resilience\, determination\, and unity. The marathon is held on the third Monday in April every year. It marks the anniversary of the Battles of Lexington and Concord\, which were the first battles of the American Revolutionary War. The marathon route takes runners through eight cities and towns in Massachusetts. These towns include Hopkinton\, Ashland\, Framingham\, Natick\, Wellesley\, Newton\, Brookline\, and Boston. \nThe Qualifications:\nOne of the unique features of the Boston Marathon is the strict qualifying standards that runners must meet to participate. These standards are based on the runner’s age and gender and require them to complete a previous marathon within a specified time. This requirement ensures that only the world’s best marathon runners participate in the Boston Marathon\, making it one of the most competitive marathons globally. \nThe Community:\nThe Boston Marathon has a rich tradition that involves its participants\, spectators\, and volunteers. The race’s route is lined with enthusiastic crowds who offer support and encouragement to the runners. Every year thousands of volunteers work tirelessly to ensure that the event runs smoothly. The marathon also attracts thousands of charity runners who raise money for various causes\, making it the world’s largest charity race. \nIn conclusion\, the Boston Marathon is much more than just a race; it is a celebration of the human spirit and endurance. The marathon’s rich history\, unique course route\, strict qualifying standards\, and charitable spirit make it one of the most prestigious marathons in the world. The Boston Marathon is an event that truly unites people from all over the world. The marathon brings together runners\, spectators\, and volunteers to celebrate the power of the human spirit. Whether you’re a runner looking to challenge your limits or a spectator looking to witness history in the making\, the Boston Marathon is an event for you. \nCheck out our race catalog for more exciting races.
URL:https://whatracetorun.com/event/boston-marathon/
LOCATION:Boston Marathon | Location\, 700 Boylston St\, Boston\, MA\, 02116\, United States
CATEGORIES:Road Races
ATTACH;FMTTYPE=image/jpeg:https://whatracetorun.com/wp-content/uploads/2023/06/57768a4-71cd-8bb0-f21-2435b547d3d_sean-sweeney-Jx9vpP0TnS8-unsplash.jpg
END:VEVENT
END:VCALENDAR