BEGIN:VCALENDAR
VERSION:2.0
PRODID:-//What Race To Run - ECPv6.15.20//NONSGML v1.0//EN
CALSCALE:GREGORIAN
METHOD:PUBLISH
X-WR-CALNAME:What Race To Run
X-ORIGINAL-URL:https://whatracetorun.com
X-WR-CALDESC:Events for What Race To Run
REFRESH-INTERVAL;VALUE=DURATION:PT1H
X-Robots-Tag:noindex
X-PUBLISHED-TTL:PT1H
BEGIN:VTIMEZONE
TZID:Africa/Johannesburg
BEGIN:STANDARD
TZOFFSETFROM:+0200
TZOFFSETTO:+0200
TZNAME:SAST
DTSTART:20240101T000000
END:STANDARD
END:VTIMEZONE
BEGIN:VEVENT
DTSTART;TZID=Africa/Johannesburg:20250608T080000
DTEND;TZID=Africa/Johannesburg:20250608T170000
DTSTAMP:20260419T144138
CREATED:20240726T232504Z
LAST-MODIFIED:20240726T232504Z
UID:36995-1749369600-1749402000@whatracetorun.com
SUMMARY:Comrades Marathon
DESCRIPTION:The Comrades Marathon\, often regarded as the “Ultimate Human Race\,” is an iconic ultra-marathon that has captured the hearts of runners and spectators worldwide. Held annually in South Africa\, it spans approximately 90 kilometers (56 miles) between the cities of Durban and Pietermaritzburg. This storied event not only tests physical endurance but also embodies the resilience\, camaraderie\, and unyielding spirit of its participants. \nHistorical Background:\nThe Comrades Marathon was conceived by World War I veteran Vic Clapham in 1921 as a tribute to his fallen comrades. Clapham envisioned a race that would honor their sacrifices by showcasing the physical endurance and mental fortitude required of soldiers. Today\, this legacy lives on\, with the marathon representing a powerful symbol of perseverance and unity. \nRoute and Challenges:\nThe marathon alternates annually between the “up” run from Durban to Pietermaritzburg and the “down” run from Pietermaritzburg to Durban. Each route presents its unique set of challenges: \n\nUp Run: Runners face a grueling ascent with significant elevation gain\, testing leg strength and cardiovascular endurance.\nDown Run: Although it features a net descent\, the steep declines can be punishing on the joints and muscles\, requiring strategic pacing and exceptional stamina.\n\nKey landmarks such as the “Big Five” hills—Cowies Hill\, Fields Hill\, Botha’s Hill\, Inchanga\, and Polly Shortts—add to the course’s demanding nature\, each presenting formidable obstacles that must be overcome. \nTraining and Preparation:\nTraining for the Comrades Marathon requires meticulous planning and dedication. Aspiring participants typically spend several months building their endurance\, incorporating a mix of long-distance runs\, hill workouts\, and strength training sessions. Nutrition and hydration strategies are equally crucial\, as they ensure runners can sustain energy levels and recover effectively. \nThe Spirit of Comradeship:\nWhat sets the Comrades Marathon apart is the profound sense of camaraderie and mutual support among runners. Participants often describe the race as a deeply emotional experience\, where the collective struggle fosters bonds that transcend cultural and geographical boundaries. The cheering crowds\, the encouragement from fellow runners\, and the tireless efforts of thousands of volunteers create an atmosphere of unity and shared purpose. \nPersonal Stories of Triumph:\nEvery year\, the Comrades Marathon produces countless stories of personal triumph. From first-time entrants achieving lifelong dreams to seasoned veterans chasing new milestones\, the narrative of each runner is a testament to human determination and resilience. Notable participants include those running for charitable causes\, adding an extra layer of significance to their endeavors. \nThe Comrades Marathon is more than just a race; it is a celebration of the human spirit. It challenges individuals to push beyond their limits\, honors the memory of those who have gone before\, and unites people from all walks of life in a shared pursuit of excellence. Whether you’re a participant\, a supporter\, or a spectator\, the Comrades Marathon offers a profound reminder of what can be achieved through determination\, preparation\, and unwavering support for one another. \nAre you inspired to take on the challenge? Join the ranks of those who have embraced the ultimate test of endurance and become part of the legendary Comrades Marathon legacy. \nCheck out our race catalog for more exciting races.
URL:https://whatracetorun.com/event/comrades-marathon/
LOCATION:Comrades Marathon
CATEGORIES:Trail Races
ATTACH;FMTTYPE=image/png:https://whatracetorun.com/wp-content/uploads/2024/07/Race-Featured-Images-39.png
ORGANIZER;CN="Comrades Marathon":MAILTO:info@comrades.com
END:VEVENT
END:VCALENDAR