BEGIN:VCALENDAR
VERSION:2.0
PRODID:-//What Race To Run - ECPv6.15.20//NONSGML v1.0//EN
CALSCALE:GREGORIAN
METHOD:PUBLISH
X-WR-CALNAME:What Race To Run
X-ORIGINAL-URL:https://whatracetorun.com
X-WR-CALDESC:Events for What Race To Run
REFRESH-INTERVAL;VALUE=DURATION:PT1H
X-Robots-Tag:noindex
X-PUBLISHED-TTL:PT1H
BEGIN:VTIMEZONE
TZID:Europe/Dublin
BEGIN:STANDARD
TZOFFSETFROM:+0000
TZOFFSETTO:+0100
TZNAME:IST
DTSTART:20240331T010000
END:STANDARD
BEGIN:DAYLIGHT
TZOFFSETFROM:+0100
TZOFFSETTO:+0000
TZNAME:GMT
DTSTART:20241027T010000
END:DAYLIGHT
BEGIN:STANDARD
TZOFFSETFROM:+0000
TZOFFSETTO:+0100
TZNAME:IST
DTSTART:20250330T010000
END:STANDARD
BEGIN:DAYLIGHT
TZOFFSETFROM:+0100
TZOFFSETTO:+0000
TZNAME:GMT
DTSTART:20251026T010000
END:DAYLIGHT
BEGIN:STANDARD
TZOFFSETFROM:+0000
TZOFFSETTO:+0100
TZNAME:IST
DTSTART:20260329T010000
END:STANDARD
BEGIN:DAYLIGHT
TZOFFSETFROM:+0100
TZOFFSETTO:+0000
TZNAME:GMT
DTSTART:20261025T010000
END:DAYLIGHT
END:VTIMEZONE
BEGIN:VEVENT
DTSTART;TZID=Europe/Dublin:20250427T080000
DTEND;TZID=Europe/Dublin:20250427T170000
DTSTAMP:20260419T161148
CREATED:20240728T193503Z
LAST-MODIFIED:20240728T193800Z
UID:37032-1745740800-1745773200@whatracetorun.com
SUMMARY:Connemarathon
DESCRIPTION:Nestled in the breathtaking landscapes of Connemara\, County Galway\, the Connemarathon is one of the most scenic and celebrated marathon events in the world. This event offers runners a chance to experience Ireland’s rugged beauty\, with race options that cater to various levels of endurance and ambition. \nThe Event Overview\nThe Connemarathon is not just a race; it’s an experience. It comprises three primary events: \n\nHalf Marathon: Starting in Leenane and finishing 13.1 miles away in Maam Cross.\nFull Marathon: A challenging 26.2-mile race that promises to push participants to their limits.\nUltra Marathon: For those seeking the ultimate test of endurance\, this 39.3-mile race covers some of the most unspoiled terrain\, offering both a mental and physical challenge like no other1.\n\nWhy Run the Connemarathon?\nStunning Scenery\nThe route takes runners through some of Ireland’s most dramatic and picturesque landscapes. From the rolling hills and serene lakes to the rugged coastlines and expansive boglands\, the scenery is nothing short of spectacular. Every mile presents a new vista\, making the effort worthwhile. \nCommunity and Camaraderie\nThe Connemarathon fosters a strong sense of community among participants. Runners from around the globe gather not only to compete but also to connect with fellow enthusiasts. The event is supported by enthusiastic locals who line the routes\, cheering on participants and providing much-needed encouragement. \nWell-Organized Event\nSince its inception\, the Connemarathon has earned a reputation for its impeccable organization. From the registration process to race-day logistics\, everything is designed to ensure a smooth and enjoyable experience for all runners. Detailed information\, including how to get to the start points and spectator bus tickets\, is readily available on the official website23. \nHow to Prepare\nTraining Tips\nPreparation is key to enjoying and completing any marathon. Here are a few tips to help you get ready: \n\nStart Early: Whether you’re running the half\, full\, or ultra marathon\, give yourself ample time to train. Build up your distance gradually to avoid injury.\nKnow the Route: Familiarize yourself with the course profile. The Connemarathon features varied terrain\, so simulate these conditions in your training.\nNutrition and Hydration: Develop a nutrition and hydration plan that works for you. Practice it during your long runs to ensure your body adapts.\n\nTravel and Accommodation\nGalway is the gateway to Connemara\, and getting there is relatively straightforward with good transport links. Consider arriving a few days early to acclimatize and explore the region. There are numerous accommodation options ranging from quaint B&Bs to luxury hotels\, ensuring a comfortable stay pre- and post-race. \nRegistration and More Information\nInterested runners can register for the Connemarathon through the official event website. It’s crucial to read all the provided information before registering to ensure you’re well-prepared for the event. Spectator bus tickets will also be available closer to the race day\, allowing friends and family to support their loved ones along the route. \nThe Connemarathon offers more than just a running challenge; it’s an opportunity to immerse yourself in the natural beauty and rich culture of Ireland’s west. Whether you’re a seasoned marathoner or a first-time participant\, the Connemarathon promises a memorable and rewarding experience. Lace up your running shoes and prepare for an adventure of a lifetime! \nCheck out our race catalog for more exciting races.
URL:https://whatracetorun.com/event/connemarathon/
LOCATION:Connemarathon\, Galway\, H91003D\, Ireland
CATEGORIES:Road Races
ATTACH;FMTTYPE=image/png:https://whatracetorun.com/wp-content/uploads/2024/07/Race-Featured-Images-44.png
ORGANIZER;CN="Dolmen Sports":MAILTO:info@connemarathon.com
END:VEVENT
END:VCALENDAR