BEGIN:VCALENDAR
VERSION:2.0
PRODID:-//What Race To Run - ECPv6.15.20//NONSGML v1.0//EN
CALSCALE:GREGORIAN
METHOD:PUBLISH
X-WR-CALNAME:What Race To Run
X-ORIGINAL-URL:https://whatracetorun.com
X-WR-CALDESC:Events for What Race To Run
REFRESH-INTERVAL;VALUE=DURATION:PT1H
X-Robots-Tag:noindex
X-PUBLISHED-TTL:PT1H
BEGIN:VTIMEZONE
TZID:Africa/Abidjan
BEGIN:STANDARD
TZOFFSETFROM:+0000
TZOFFSETTO:+0000
TZNAME:GMT
DTSTART:20240101T000000
END:STANDARD
END:VTIMEZONE
BEGIN:VEVENT
DTSTART;VALUE=DATE:20250907
DTEND;VALUE=DATE:20250908
DTSTAMP:20260419T191415
CREATED:20230802T214152Z
LAST-MODIFIED:20250905T193421Z
UID:6602-1757228400-1757246400@whatracetorun.com
SUMMARY:Great North Run
DESCRIPTION:Every year\, thousands of runners flock to the streets of Newcastle upon Tyne in England to participate in the Great North Run. This iconic half marathon is the largest in the world\, with over 50\,000 runners participating over the years. The Great North Run is renowned for its course’s beauty\, its roaring crowd\, and the incredible energy of the runners themselves. This article will explore the Great North Run in detail\, tell you what to expect when you run\, and offer insider tips to ensure you have the time of your life. \nThe Course: \nThe Great North Run course is breathtaking. The half marathon starts at Newcastle upon Tyne’s central motorway and finishes at the South Shields Coastal Road. The runners pass by some of the city’s iconic landmarks\, like the Tyne Bridge\, the Baltic Art Centre\, and the Sage. The course is relatively flat\, with only a few small hills\, which makes it an excellent race for all levels of runners. This course’s most challenging part is the last mile\, particularly the uphill of the final stretch toward the finish line. \n \n[optin-monster slug=”u9ogigt36k4zbwkxi5az” followrules=”true”] \nThe Atmosphere: \nThis race is more than a marathon; it’s a celebration of running\, community\, and the human spirit. The feeling of camaraderie and support is truly amazing\, with thousands of people lining the streets to cheer on the runners. Bands\, choirs\, and steel drums provide entertainment along the way\, and people offer high-fives to keep spirits high. If you’re a first-timer\, you will feel like a celebrity\, hearing your name being cheered out by strangers who line the pavement. The atmosphere of the Great North Run is genuinely electrifying. \n  \nTips for Running the Great North Run:\n1. Prepare for Weather: The weather in Newcastle upon Tyne can be uncertain\, from cool and wet to hot and sunny. Ensure you pack running gear for both conditions and have sunblock\, a hat\, and a pair of sunglasses on hand. \n2. Arrange Accommodation Early: As the Great North Run is a big event\, you would benefit from arranging your accommodation early to avoid extortionate prices. Look for hotels near the start line as this will make your race day more manageable. \n3. Eat Well: Fueling your body leading up to the race is essential. You’ll want to eat a well-balanced diet to ensure you have the energy and nutrients you need to complete the half marathon comfortably. \n \n4. Train on Hillier Courses: Despite the Great North Run’s mostly flat course\, there are a few small hills. To feel comfortable\, incorporate some hills into your longer training runs. \n5. Stay Positive: When you get tired\, start to think positively and stay focused on the end goal. Remember\, you may be running alone\, but thousands of runners are experiencing the same thing. If you’re struggling\, pick someone running ahead of you and stay with them. \n\n \nThe Great North Run is a marvelous race that should be on any runner’s bucket list. The course is flat\, the atmosphere is electric\, and the location is in one of England’s gems\, Newcastle upon Tyne. With challenging hills\, incredible support\, and breathtaking sights\, this race is a rewarding challenge that will leave you feeling accomplished and inspired. Just remember to be well prepared\, stay positive\, and enjoy every moment of this fantastic event. \nCheck out our race catalog for more exciting races.
URL:https://whatracetorun.com/event/great-north-run/
LOCATION:Great North Run | Location\, Gateshead\, United Kingdom
CATEGORIES:Road Races
ATTACH;FMTTYPE=image/jpeg:https://whatracetorun.com/wp-content/uploads/2023/08/ebun-oluwole-Lvxw4d2VO_U-unsplash-scaled-RIu0bv.tmp_.jpg
END:VEVENT
END:VCALENDAR