BEGIN:VCALENDAR
VERSION:2.0
PRODID:-//What Race To Run - ECPv6.15.20//NONSGML v1.0//EN
CALSCALE:GREGORIAN
METHOD:PUBLISH
X-WR-CALNAME:What Race To Run
X-ORIGINAL-URL:https://whatracetorun.com
X-WR-CALDESC:Events for What Race To Run
REFRESH-INTERVAL;VALUE=DURATION:PT1H
X-Robots-Tag:noindex
X-PUBLISHED-TTL:PT1H
BEGIN:VTIMEZONE
TZID:UTC
BEGIN:STANDARD
TZOFFSETFROM:+0000
TZOFFSETTO:+0000
TZNAME:UTC
DTSTART:20250101T000000
END:STANDARD
END:VTIMEZONE
BEGIN:VEVENT
DTSTART;VALUE=DATE:20260117
DTEND;VALUE=DATE:20260119
DTSTAMP:20260419T192009
CREATED:20230720T231829Z
LAST-MODIFIED:20250910T023432Z
UID:4824-1768633200-1768741200@whatracetorun.com
SUMMARY:Key West Half Marathon & 5k
DESCRIPTION:Are you a fitness enthusiast looking for a new challenge? Or maybe someone who loves to indulge in a bit of adventure? If yes\, then participating in the Key West Half Marathon and 5k is the perfect activity for you. This annual event is a huge attraction for athletes from all over the world\, drawing thousands to the beautiful streets of Key West. The race offers breathtaking scenery\, a fun-filled atmosphere\, and a whole lot of adventure. In this blog post\, we will take you through why you should consider running in the Key West Half Marathon and 5k. \n1. An Exciting Experience for All:\nThe Key West Half Marathon and 5k is an event that has something for everyone. Whether you are a first-time runner or a seasoned athlete\, the race offers a memorable experience. The 5k is ideal for beginners\, while the half marathon is perfect for runners seeking a bit more of a challenge. With carnival-like atmosphere throughout the event\, you can be sure of a fun-packed weekend. \n[optin-monster slug=”u9ogigt36k4zbwkxi5az” followrules=”true”] \n2. Beautiful Scenery and Challenging Terrain:\nWhat sets the Key West Half Marathon and 5k apart from other races is the stunning scenery and challenging route. The course runs through well-known landmarks like White Street Pier and Smathers Beach. The terrain offers a bit of a challenge with steep bridges and windswept sections. This unique route presents an even greater opportunity to test your stamina and endurance. \n3. A Sense of Accomplishment:\nThere is nothing more exhilarating than the sense of accomplishment that comes with finishing a marathon. The Key West Half Marathon and 5k provide a great opportunity to step outside your comfort zone and achieve something great. Plus\, the energy and adrenaline rush from the cheering crowds and the finish line will make you feel like a superstar. \n4. Charity and Community Involvement:\nAre you interested in giving back to your community or supporting noble causes? The Key West Half Marathon and 5k support numerous charitable organizations such as the Southernmost Boys and Girls Club\, and the Key West Sunrise Rotary Club. By participating\, you get to be a part of supporting your community and making the event more meaningful and impactful. \n5. Join a Worldwide Community of Fitness Enthusiasts:\nRunning in the Key West Half Marathon and 5k is an excellent way of connecting with like-minded individuals from all over the world. The event is attended by not just locals\, but also by athletes from different countries. Participating in the event lets you share your love for running and fitness\, and exchange valuable tips and experiences. \nConclusion: \nThe Key West Half Marathon and 5k present an excellent opportunity for fitness enthusiasts and adventurous individuals. The race provides an unforgettable experience\, with beautiful scenery\, challenging terrain and a fun-filled atmosphere. It’s a chance to set goals\, overcome challenges\, and achieve a sense of accomplishment. By participating\, you get to give back to your community and be a part of supporting charitable organizations. It’s a chance to connect with a worldwide community of fitness enthusiasts and exchange valuable tips and experiences. The race is held annually\, so mark your calendars and register for an event you’ll never forget!
URL:https://whatracetorun.com/event/key-west-half-marathon-5k/
LOCATION:Key West Half Marathon & 5K | Location\, Trumbo Road\, Key West\, Florida\, 33040\, United States
CATEGORIES:Road Races
ATTACH;FMTTYPE=image/jpeg:https://whatracetorun.com/wp-content/uploads/2023/07/empty-smathers-beach-key-west-florida-blue-buil-2022-11-02-17-37-43-utc-scaled-MhGc3Z.tmp_.jpg
END:VEVENT
END:VCALENDAR