BEGIN:VCALENDAR
VERSION:2.0
PRODID:-//What Race To Run - ECPv6.15.20//NONSGML v1.0//EN
CALSCALE:GREGORIAN
METHOD:PUBLISH
X-WR-CALNAME:What Race To Run
X-ORIGINAL-URL:https://whatracetorun.com
X-WR-CALDESC:Events for What Race To Run
REFRESH-INTERVAL;VALUE=DURATION:PT1H
X-Robots-Tag:noindex
X-PUBLISHED-TTL:PT1H
BEGIN:VTIMEZONE
TZID:UTC
BEGIN:STANDARD
TZOFFSETFROM:+0000
TZOFFSETTO:+0000
TZNAME:UTC
DTSTART:20230101T000000
END:STANDARD
END:VTIMEZONE
BEGIN:VEVENT
DTSTART;TZID=UTC:20240324T070000
DTEND;TZID=UTC:20240324T130000
DTSTAMP:20260419T175129
CREATED:20230610T013810Z
LAST-MODIFIED:20230725T003430Z
UID:3767-1711263600-1711285200@whatracetorun.com
SUMMARY:Love Run Philadelphia Half Marathon
DESCRIPTION:Running In The City Of Brotherly Love\nAre you a lover of running and interested in exploring what the City of Brotherly Love has to offer? The Love Run Philadelphia Half Marathon is your perfect opportunity to blend your love of running with the vibrant and diverse culture of Philadelphia. Not only is the Love Run Philadelphia Half Marathon a great way to stay active\, but it also offers a chance to see parts of the City of Philadelphia you wouldn’t normally explore. This event\, which is held annually\, is arguably one of the best half marathons in the United States as it offers runners a unique experience they won’t find anywhere else. \nHere are some reasons why you should consider participating in the Love Run Philadelphia Half Marathon: \n1. Run past famous attractions\nGet a chance to see some of Philadelphia’s most iconic landmarks while you run. Participants of the Love Run Philadelphia Half Marathon will get to run past the famous Liberty Bell\, through Old City\, and through Center City. It is a great way to appreciate the beauty of Philadelphia and feel the energy of the city while running. \n[optin-monster slug=”u9ogigt36k4zbwkxi5az” followrules=”true”] \n2. Meet new friends\nRunners from diverse backgrounds and experiences come together for the Love Run Philadelphia Half Marathon. It is a great opportunity for runners to meet new people and form lifelong friendships. The running community is a supportive and encouraging one that welcomes everyone with open arms. \n3. A challenging course\nThe Love Run Philadelphia Half Marathon is not an easy race\, but it is definitely worth it. The course involves hills and sharp turns throughout the city\, which can be challenging for runners\, but also exciting. It is an excellent opportunity for runners to test their limits\, push themselves to be better\, and come out on the other side feeling accomplished. \n4. Celebrate Accomplishment\nThe feeling of crossing the finish line is indescribable. It is a sense of accomplishment that every runner seeks. The Love Run Philadelphia Half Marathon is the perfect opportunity for runners to celebrate their hard work and feel a sense of pride and accomplishment. Not to mention\, the after-party is a great way to meet new people\, socialize\, and relax after a challenging race. \n5. A charitable event\nApart from providing runners with an unforgettable experience\, the Love Run Philadelphia Half Marathon is also a charitable event. It supports different charity organizations in the Philadelphia area. Participants not only get to be part of something great\, but they also help make a difference in their local community. \nThe Love Run Philadelphia Half Marathon is a great opportunity for runners to experience Philadelphia in a unique way. With its beautiful scenery\, challenging course\, and charitable purpose\, it is no wonder this event attracts runners from all over the world. If you are looking for a race that tests your limits\, takes you through some of the most historic neighborhoods in Philadelphia\, and allows you to connect with other runners from different backgrounds\, the Love Run Philadelphia Half Marathon should be on your bucket list. \nCheck out our race catalog for more exciting races.
URL:https://whatracetorun.com/event/love-run-philadelphia-half-marathon/
LOCATION:Love Run Philadelphia Half Marathon | Location\, 2600 Benjamin Franklin Pkwy\, Philadelphia\, PA\, 19130\, United States
CATEGORIES:Road Races
ATTACH;FMTTYPE=image/jpeg:https://whatracetorun.com/wp-content/uploads/2023/06/c3ba30f-8ca3-5ff2-4a5-41fc0faad815_daniel-odonnell-yElP7IU8ttg-unsplash.jpg
END:VEVENT
END:VCALENDAR