BEGIN:VCALENDAR
VERSION:2.0
PRODID:-//What Race To Run - ECPv6.15.20//NONSGML v1.0//EN
CALSCALE:GREGORIAN
METHOD:PUBLISH
X-WR-CALNAME:What Race To Run
X-ORIGINAL-URL:https://whatracetorun.com
X-WR-CALDESC:Events for What Race To Run
REFRESH-INTERVAL;VALUE=DURATION:PT1H
X-Robots-Tag:noindex
X-PUBLISHED-TTL:PT1H
BEGIN:VTIMEZONE
TZID:UTC
BEGIN:STANDARD
TZOFFSETFROM:+0000
TZOFFSETTO:+0000
TZNAME:UTC
DTSTART:20250101T000000
END:STANDARD
END:VTIMEZONE
BEGIN:VEVENT
DTSTART;VALUE=DATE:20260125
DTEND;VALUE=DATE:20260126
DTSTAMP:20260420T094525
CREATED:20240624T225030Z
LAST-MODIFIED:20251220T034016Z
UID:36869-1769299200-1769385599@whatracetorun.com
SUMMARY:Miami Marathon & Half Marathon
DESCRIPTION:Sunshine Running\nAre you ready to lace up your sneakers and join thousands of other runners for a beautiful run in the sunshine state? The Miami Marathon and Half Marathon is a perfect way to start the year\, and whether you’re a seasoned runner or a first-time participant\, you’re in for an unforgettable experience. In this guide\, we’ll take you through all the things you need to know about the Miami Marathon and Half Marathon\, from the route to what to bring\, so you can prepare yourself for an amazing race. \nThe Route:\nThe Miami Marathon and Half Marathon route were designed to showcase the unique and stunning neighborhoods of Miami. The Miami Marathon is a full 26.2-mile course\, with the half marathon covering 13.1 miles. Starting at American Airlines Arena\, the race takes you through beautiful areas such as South Beach\, Coconut Grove\, and the Design District. \nOne thing that sets the Miami Marathon apart is the beautiful ocean view for most parts of the race. The course also includes some iconic Miami landmarks such as the Venetian Causeway Bridge and the famous Ocean Drive. Both courses are USATF certified and are known to be flat courses\, making for a relatively easy run for your first half marathon. \n[optin-monster slug=”u9ogigt36k4zbwkxi5az” followrules=”true”] \nWhat To Bring:\nThis is the time to gather all the gears you need to ensure that you have a comfortable and memorable race. You will need comfortable running shoes\, clothes that suit the weather conditions\, sunscreen\, and a hat or visor. It is always advisable to carry a water bottle for hydration purposes. Also\, be sure to bring a post-race change of clothes\, as Miami can get hot and humid. \nTraining for the Race:\nIf you’re planning on participating in the Miami Marathon or Half Marathon\, you should start training a few months before the race. Begin with walking or running short distances\, gradually increasing your mileage and speed as race day approaches. A good training schedule should include a mix of shorter and longer runs\, as well as cross-training and rest days. \n\n \nRace Day Tips:\nOn race day\, it’s essential to arrive early at the venue. You don’t want to be in a rush while checking in\, placing your luggage\, and warming up before the race. Be sure to check the weather forecast and dress accordingly. Start the race at an appropriate pace to conserve energy\, especially if you are running a marathon. There are water and aid stations scattered throughout the course\, so don’t hesitate to use them to keep yourself hydrated and nourished. \nThe Miami Marathon and Half Marathon offer thrilling routes and the opportunity to run in one of America’s most beautiful cities. This guide has provided you with all the information you need to make the most out of your race day experience\, from what to bring to how to train. Whether you’re running for fun or pushing yourself to achieve a personal best\, the Miami Marathon and Half Marathon are definitely worth checking out. So\, put on your shoes and get ready to run to the beat of Miami’s vibrant energy. \nCheck out our race catalog for more exciting races.
URL:https://whatracetorun.com/event/miami-marathon-half-marathon-2/
LOCATION:Miami Marathon & Half Marathon | Location\, 301 Biscayne Blvd\, Miami\, FL\, 33132\, United States
CATEGORIES:Road Races
ATTACH;FMTTYPE=image/jpeg:https://whatracetorun.com/wp-content/uploads/2023/06/1574d5-0a51-2f57-300b-ab12a4fc4f20_aurora-kreativ-UN4cs4zNCYo-unsplash.jpg
END:VEVENT
END:VCALENDAR