BEGIN:VCALENDAR
VERSION:2.0
PRODID:-//What Race To Run - ECPv6.15.20//NONSGML v1.0//EN
CALSCALE:GREGORIAN
METHOD:PUBLISH
X-WR-CALNAME:What Race To Run
X-ORIGINAL-URL:https://whatracetorun.com
X-WR-CALDESC:Events for What Race To Run
REFRESH-INTERVAL;VALUE=DURATION:PT1H
X-Robots-Tag:noindex
X-PUBLISHED-TTL:PT1H
BEGIN:VTIMEZONE
TZID:Europe/Oslo
BEGIN:DAYLIGHT
TZOFFSETFROM:+0100
TZOFFSETTO:+0200
TZNAME:CEST
DTSTART:20240331T010000
END:DAYLIGHT
BEGIN:STANDARD
TZOFFSETFROM:+0200
TZOFFSETTO:+0100
TZNAME:CET
DTSTART:20241027T010000
END:STANDARD
BEGIN:DAYLIGHT
TZOFFSETFROM:+0100
TZOFFSETTO:+0200
TZNAME:CEST
DTSTART:20250330T010000
END:DAYLIGHT
BEGIN:STANDARD
TZOFFSETFROM:+0200
TZOFFSETTO:+0100
TZNAME:CET
DTSTART:20251026T010000
END:STANDARD
BEGIN:DAYLIGHT
TZOFFSETFROM:+0100
TZOFFSETTO:+0200
TZNAME:CEST
DTSTART:20260329T010000
END:DAYLIGHT
BEGIN:STANDARD
TZOFFSETFROM:+0200
TZOFFSETTO:+0100
TZNAME:CET
DTSTART:20261025T010000
END:STANDARD
END:VTIMEZONE
BEGIN:VEVENT
DTSTART;TZID=Europe/Oslo:20250621T080000
DTEND;TZID=Europe/Oslo:20250621T170000
DTSTAMP:20260419T174541
CREATED:20240726T210550Z
LAST-MODIFIED:20240726T210550Z
UID:36986-1750492800-1750525200@whatracetorun.com
SUMMARY:Midnight Sun Marathon
DESCRIPTION:Imagine running a marathon under the never-setting sun\, where twilight merges into dawn without the cover of darkness. Welcome to the Midnight Sun Marathon in Tromsø\, Norway—a unique racing event that promises not just a test of endurance but an unforgettable experience bathed in ethereal Arctic light. \nThe Enchanting Setting\nThe Midnight Sun Marathon takes place in Tromsø\, situated above the Arctic Circle. Known as the “Gateway to the Arctic\,” Tromsø is a city rich with natural beauty and cultural history. During the summer solstice\, the sun doesn’t dip below the horizon\, offering runners a surreal backdrop of perpetual daylight. This phenomenon creates an atmosphere that’s both magical and invigorating. \nRace Details\nDate: The race typically occurs in late June\, aligning perfectly with the peak of the Midnight Sun. \nCourse: The marathon course weaves through the heart of Tromsø\, offering scenic views of fjords\, snow-capped mountains\, and charming Scandinavian architecture. The relatively flat route is perfect for both seasoned runners looking for a new personal best and beginners aiming to complete their first marathon. \nCategories: In addition to the full marathon\, the event includes a half marathon\, 10K race\, and a 4.2K fun run\, making it accessible for runners of all levels. \nUnique Challenges and Rewards\nRunning under the Midnight Sun presents its own set of challenges and rewards: \n1. Psychological Shift: The constant daylight can play tricks on your mind\, especially if you’re used to running marathons at dawn or in the evening. It’s crucial to pace yourself and stay hydrated. \n2. Climate Conditions: While the temperatures are generally mild\, they can vary. Be prepared for sudden changes in weather by layering your clothing appropriately. \n3. Scenic Distraction: The breathtaking scenery might tempt you to stop and take pictures. Don’t worry—many participants do exactly that! Just remember to keep moving and soak in the views as you go. \nTips for First-Time Participants\n1. Adapt Your Sleep Schedule: Arrive a few days early to adjust to the 24-hour daylight. Consider using blackout curtains in your accommodation to ensure quality sleep. \n2. Hydrate Well: Continuous daylight can lead to dehydration despite the cooler climate. Drink water regularly and make use of the hydration stations along the course. \n3. Embrace the Culture: Tromsø offers more than just the marathon. Explore local attractions such as the Arctic Cathedral\, Polaria Aquarium\, and the Tromsø Museum. Engaging with the culture will enhance your overall experience. \nConclusion\nThe Midnight Sun Marathon is more than a race; it celebrates nature\, endurance\, and human spirit. Whether you’re chasing a personal best or simply seeking an extraordinary adventure\, this marathon delivers an experience like no other. Lace up your running shoes\, embrace the magic of the endless sun\, and become part of a tradition that celebrates the wonder of the Arctic Circle. \nReady to embark on an unforgettable journey? Sign up for the Midnight Sun Marathon and let the eternal daylight guide your path to the finish line. \nCheck out our race catalog for more exciting races.
URL:https://whatracetorun.com/event/midnight-sun-marathon/
LOCATION:Midnight Sun Marathon
CATEGORIES:Road Races
ATTACH;FMTTYPE=image/png:https://whatracetorun.com/wp-content/uploads/2024/07/Race-Featured-Images-38.png
ORGANIZER;CN="Foundation Midnight Sun Marathon":MAILTO:info@msm.no
END:VEVENT
END:VCALENDAR