BEGIN:VCALENDAR
VERSION:2.0
PRODID:-//What Race To Run - ECPv6.15.20//NONSGML v1.0//EN
CALSCALE:GREGORIAN
METHOD:PUBLISH
X-WR-CALNAME:What Race To Run
X-ORIGINAL-URL:https://whatracetorun.com
X-WR-CALDESC:Events for What Race To Run
REFRESH-INTERVAL;VALUE=DURATION:PT1H
X-Robots-Tag:noindex
X-PUBLISHED-TTL:PT1H
BEGIN:VTIMEZONE
TZID:UTC
BEGIN:STANDARD
TZOFFSETFROM:+0000
TZOFFSETTO:+0000
TZNAME:UTC
DTSTART:20240101T000000
END:STANDARD
END:VTIMEZONE
BEGIN:VEVENT
DTSTART;VALUE=DATE:20250913
DTEND;VALUE=DATE:20250914
DTSTAMP:20260419T205243
CREATED:20240119T212532Z
LAST-MODIFIED:20250910T022238Z
UID:36476-1757745000-1757764800@whatracetorun.com
SUMMARY:Mount Rushmore Half Marathon
DESCRIPTION:Are you looking for a thrilling and unforgettable racing experience? Look no further than the Mount Rushmore Half Marathon in Keystone\, South Dakota. This race offers stunning views of the Black Hills and a challenging course for runners of all levels. Not only will you get the chance to run alongside some of the most breathtaking landscapes in the country but you can also take in the history and culture of the area. Whether you’re a seasoned runner or just starting on your fitness journey\, the Mount Rushmore Half Marathon is an event that should not be missed. \n[optin-monster slug=”u9ogigt36k4zbwkxi5az” followrules=”true”] \n1. The Scenic Course:\nThe Mount Rushmore Half Marathon starts in the heart of Keystone at the Keystone Visitor Center. The course winds through scenic landscapes featuring historic landmarks like Old Keystone Town. The scenic route consists of paved roads and a few steep hills that offer breathtaking views of Mount Rushmore. Runners will follow the course that goes through downtown Keystone\, known for its unique local shops\, craft beers\, and typical small-town charm. The course continues through the Black Hills National Forest and ends with a descent through winding roads\, finishing in the heart of Keystone. \n2. The Event Weekend:\nNot only does the Mount Rushmore Half Marathon provide you with physical challenges and breathtaking views of the Black Hills\, but it also offers other pre- and post-race activities. The Mount Rushmore Gospel Music Festival takes place on the same weekend as the race. Here\, you can enjoy world-class gospel music and take in all the culture Keystone has to offer. As an added benefit\, you can go to Mount Rushmore National Memorial\, one of the most patriotic landmarks in the United States\, free of charge. \n3. The Accommodations:\nIf you’re looking for accommodations\, Keystone offers many options such as hotels\, cabins\, and campgrounds\, so there is an option for every budget. You can also partake in other outdoor activities such as hiking\, biking\, and rock climbing at Black Hills National Forest and Rushmore Mountain Adventure Park. \nAs a runner\, the Mount Rushmore Half Marathon in Keystone\, South Dakota\, is a dream race. With its stunning scenery\, historic landmarks\, and patriotic significance\, it’s more than just a running event. Keystone offers plenty of pre- and post-race activities\, so why not make a long weekend trip out of it? Whether you’re a seasoned runner or just starting\, the Mount Rushmore Half Marathon is an event that you don’t want to miss. So start training\, book your accommodations\, pack your bags\, and get ready for the race of a lifetime. \nCheck out our race catalog for more exciting races.
URL:https://whatracetorun.com/event/mount-rushmore-half-marathon/
LOCATION:Mount Rushmore Half Marathon\, 13577 Ghost Canyon Rd\, Hermosa\, SD\, 57744\, United States
CATEGORIES:Road Races
ATTACH;FMTTYPE=image/png:https://whatracetorun.com/wp-content/uploads/2024/01/Race-Featured-Images-21.png
END:VEVENT
END:VCALENDAR