BEGIN:VCALENDAR
VERSION:2.0
PRODID:-//What Race To Run - ECPv6.15.20//NONSGML v1.0//EN
CALSCALE:GREGORIAN
METHOD:PUBLISH
X-WR-CALNAME:What Race To Run
X-ORIGINAL-URL:https://whatracetorun.com
X-WR-CALDESC:Events for What Race To Run
REFRESH-INTERVAL;VALUE=DURATION:PT1H
X-Robots-Tag:noindex
X-PUBLISHED-TTL:PT1H
BEGIN:VTIMEZONE
TZID:America/Los_Angeles
BEGIN:DAYLIGHT
TZOFFSETFROM:-0800
TZOFFSETTO:-0700
TZNAME:PDT
DTSTART:20250309T100000
END:DAYLIGHT
BEGIN:STANDARD
TZOFFSETFROM:-0700
TZOFFSETTO:-0800
TZNAME:PST
DTSTART:20251102T090000
END:STANDARD
BEGIN:DAYLIGHT
TZOFFSETFROM:-0800
TZOFFSETTO:-0700
TZNAME:PDT
DTSTART:20260308T100000
END:DAYLIGHT
BEGIN:STANDARD
TZOFFSETFROM:-0700
TZOFFSETTO:-0800
TZNAME:PST
DTSTART:20261101T090000
END:STANDARD
BEGIN:DAYLIGHT
TZOFFSETFROM:-0800
TZOFFSETTO:-0700
TZNAME:PDT
DTSTART:20270314T100000
END:DAYLIGHT
BEGIN:STANDARD
TZOFFSETFROM:-0700
TZOFFSETTO:-0800
TZNAME:PST
DTSTART:20271107T090000
END:STANDARD
END:VTIMEZONE
BEGIN:VEVENT
DTSTART;TZID=America/Los_Angeles:20261219T073000
DTEND;TZID=America/Los_Angeles:20261219T123000
DTSTAMP:20260422T202521
CREATED:20260422T052005Z
LAST-MODIFIED:20260422T052456Z
UID:37459-1797665400-1797683400@whatracetorun.com
SUMMARY:San Diego Holiday Half Marathon & 5K
DESCRIPTION:San Diego Holiday Half Marathon: The Gift of a Fast\, Downhill PR Course\nSome races are built for the experience. The San Diego Holiday Half Marathon & 5K is built for the clock. Now in its 14th consecutive year\, this December 19\, 2026 race is one of the most popular Boston Qualifier attempts in Southern California — thanks to a 711-foot net elevation drop that gives your legs a fighting chance at a personal best. It sells out every year without exception. \nThe Course\nThe half marathon starts at 7:30 AM at 14455 Penasquitos Dr in Rancho Penasquitos\, the highest point of the race. After a brief climb on Carmel Mountain Road around mile 1.5 (the only meaningful hill on the course)\, the route drops onto the State Route 56 bike path and runs southwest all the way to Sorrento Valley Road. That’s 711 feet of net downhill over 13.1 miles — consistently one of the fastest courses in the San Diego road race calendar. A post-race bus returns runners from the Sorrento Valley finish back to the start\, simplifying the point-to-point logistics. \nRace Day Experience\nThe 7:30 AM start in December means cool\, crisp temperatures — ideal racing conditions for pushing pace. The bike path course keeps traffic-related interruptions minimal and the atmosphere focused. With 1\,000–5\,000 runners\, the field is big enough for camaraderie but small enough to feel personal. Note that there is no bib mailing option\, so plan to pick up your bib on-site before race day. The holiday season timing adds a festive backdrop to what is\, at its core\, a serious PR race. \nWhy Run the San Diego Holiday Half Marathon?\nIf you’re chasing a Boston Qualifier time\, the net-downhill course gives you a structural advantage that few San Diego races match. The race’s 14-year track record means the logistics are dialed in — this isn’t an event still figuring itself out. Sell-out status every year reflects genuine demand from the local running community. The December timing also makes it a natural motivator to stay in training shape through the holiday season — a built-in accountability mechanism most runners appreciate. \nTravel & Logistics\nThe race starts in Rancho Penasquitos\, a north San Diego neighborhood accessible via I-15 and SR-56. The start area is residential and suburban; parking is available but limited\, so carpooling is wise. The finish at Sorrento Valley Road is near the I-5/I-805 corridor\, and the race-provided bus makes the point-to-point format manageable. For accommodations\, the Carmel Valley and Sorrento Valley areas have numerous business-travel hotels\, or choose downtown San Diego (about 15–20 miles south) for more dining and entertainment options before and after race weekend. \nHow to Register\nRegistration for the San Diego Holiday Half Marathon & 5K is available through RunSignUp. Visit the official website for race schedule details and to sign up early — this one sells out every single year. Don’t wait until December to decide.
URL:https://whatracetorun.com/event/san-diego-holiday-half-marathon-5k/
LOCATION:Rancho Penasquitos / Sorrento Valley Bike Path\, 14455 Penasquitos Dr\, San Diego\, CA\, 92129\, United States
CATEGORIES:Road Races
ATTACH;FMTTYPE=image/png:https://whatracetorun.com/wp-content/uploads/2026/04/san-diego-holiday-half-marathon-5k-scaled.png
END:VEVENT
END:VCALENDAR