BEGIN:VCALENDAR
VERSION:2.0
PRODID:-//What Race To Run - ECPv6.15.20//NONSGML v1.0//EN
CALSCALE:GREGORIAN
METHOD:PUBLISH
X-WR-CALNAME:What Race To Run
X-ORIGINAL-URL:https://whatracetorun.com
X-WR-CALDESC:Events for What Race To Run
REFRESH-INTERVAL;VALUE=DURATION:PT1H
X-Robots-Tag:noindex
X-PUBLISHED-TTL:PT1H
BEGIN:VTIMEZONE
TZID:America/Los_Angeles
BEGIN:DAYLIGHT
TZOFFSETFROM:-0800
TZOFFSETTO:-0700
TZNAME:PDT
DTSTART:20250309T100000
END:DAYLIGHT
BEGIN:STANDARD
TZOFFSETFROM:-0700
TZOFFSETTO:-0800
TZNAME:PST
DTSTART:20251102T090000
END:STANDARD
BEGIN:DAYLIGHT
TZOFFSETFROM:-0800
TZOFFSETTO:-0700
TZNAME:PDT
DTSTART:20260308T100000
END:DAYLIGHT
BEGIN:STANDARD
TZOFFSETFROM:-0700
TZOFFSETTO:-0800
TZNAME:PST
DTSTART:20261101T090000
END:STANDARD
BEGIN:DAYLIGHT
TZOFFSETFROM:-0800
TZOFFSETTO:-0700
TZNAME:PDT
DTSTART:20270314T100000
END:DAYLIGHT
BEGIN:STANDARD
TZOFFSETFROM:-0700
TZOFFSETTO:-0800
TZNAME:PST
DTSTART:20271107T090000
END:STANDARD
END:VTIMEZONE
BEGIN:VEVENT
DTSTART;TZID=America/Los_Angeles:20260718T080000
DTEND;TZID=America/Los_Angeles:20260718T130000
DTSTAMP:20260422T155543
CREATED:20260422T052009Z
LAST-MODIFIED:20260422T052537Z
UID:37461-1784361600-1784379600@whatracetorun.com
SUMMARY:San Diego Pride 5K Run + Walk
DESCRIPTION:San Diego Pride 5K: Run\, Walk\, and Celebrate in Hillcrest\nThe San Diego Pride 5K Run + Walk is more than a race — it’s a community celebration that takes place along the heart of one of San Diego’s most vibrant neighborhoods. Organized by Front Runners & Walkers San Diego (FRWSD) and held on July 18\, 2026\, as part of San Diego Pride Week (July 15–19)\, this 5K runs along the same route as the iconic Pride Parade through Hillcrest and into Balboa Park. \nThe Course\nThe out-and-back 5K starts and finishes at University Avenue and Richmond Street in Hillcrest at 8:00 AM. Runners and walkers head west on University Avenue\, turn south on 6th Avenue\, enter the northern edge of Balboa Park\, and reach the halfway turnaround before retracing their steps to the finish. The course is flat and accessible\, running through the tree-lined streets and the festively decorated commercial corridor that defines Hillcrest. It’s a best 5K in San Diego for a social race experience — walkers are fully welcome and very much part of the event. \nRace Day Experience\nExpect the energy of Pride Week to infuse every block of this course. A vendor village anchors the finish line\, adding a festival atmosphere that extends well beyond the finish line tape. A free shuttle runs from designated parking areas to the start\, making logistics easy even during the busy Pride Week period. Whether you run a 7-minute pace or take it as a celebratory walk with friends\, you’ll be surrounded by community\, color\, and genuine San Diego warmth. \nWhy Run the San Diego Pride 5K?\nThis race is a long-standing tradition of the LGBTQ+ community in San Diego\, organized with care by Front Runners & Walkers San Diego — one of the oldest LGBTQ+ running clubs in the country. It’s a welcoming\, inclusive event that explicitly invites runners and walkers of all paces\, making it one of the most accessible fun runs in San Diego for families\, beginners\, and community supporters alike. Running the Pride Parade route before the parade itself is a genuinely special experience that connects you to the cultural heartbeat of the city. \nTravel & Logistics\nHillcrest sits just north of Balboa Park\, about 2 miles north of downtown San Diego via Park Boulevard or 6th Avenue. The neighborhood is walkable\, bikeable\, and served by MTS bus routes. Parking can be tight during Pride Week; taking advantage of the free race shuttle from designated lots is highly recommended. The Hillcrest neighborhood itself is packed with cafes\, brunch spots\, and restaurants — perfect for post-race celebrations. Book accommodations early if you’re staying during Pride Week\, as the area fills quickly. \nHow to Register\nRegister for the San Diego Pride 5K through the Front Runners & Walkers San Diego registration page. For full Pride Week event info and 5K details\, visit the official San Diego Pride 5K page. All paces\, all people — just show up and run (or walk) proud.
URL:https://whatracetorun.com/event/san-diego-pride-5k-run-walk/
LOCATION:Hillcrest / Balboa Park\, University Ave & Richmond St\, San Diego\, CA\, 92103\, United States
CATEGORIES:Fun Races,Road Races
ATTACH;FMTTYPE=image/png:https://whatracetorun.com/wp-content/uploads/2026/04/san-diego-pride-5k-run-walk-scaled.png
END:VEVENT
END:VCALENDAR