BEGIN:VCALENDAR
VERSION:2.0
PRODID:-//What Race To Run - ECPv6.15.20//NONSGML v1.0//EN
CALSCALE:GREGORIAN
METHOD:PUBLISH
X-WR-CALNAME:What Race To Run
X-ORIGINAL-URL:https://whatracetorun.com
X-WR-CALDESC:Events for What Race To Run
REFRESH-INTERVAL;VALUE=DURATION:PT1H
X-Robots-Tag:noindex
X-PUBLISHED-TTL:PT1H
BEGIN:VTIMEZONE
TZID:UTC
BEGIN:STANDARD
TZOFFSETFROM:+0000
TZOFFSETTO:+0000
TZNAME:UTC
DTSTART:20240101T000000
END:STANDARD
END:VTIMEZONE
BEGIN:VEVENT
DTSTART;TZID=UTC:20250303T080000
DTEND;TZID=UTC:20250303T133000
DTSTAMP:20260419T161445
CREATED:20230603T080056Z
LAST-MODIFIED:20240721T214834Z
UID:3846-1740988800-1741008600@whatracetorun.com
SUMMARY:Tokyo Marathon
DESCRIPTION:Fast & Beautiful: Toyko Marathon (World Major)\nThe Tokyo Marathon is one of the most prestigious marathons in the world. Held annually in Tokyo\, this marathon is part of the Abbott World Marathon Majors\, alongside other major races such as the Boston\, London\, Berlin\, Chicago\, and New York City marathons. The Tokyo Marathon has grown in popularity over the years\, attracting elite and amateur runners from all over the world. In this blog post\, we’ll take a look at what makes the Tokyo Marathon so special\, what participants can expect\, and how you can prepare for this exciting event. \nThe Race:\nFirst of all\, why is the Tokyo Marathon so popular? For one\, it’s the largest marathon in Asia\, with over 38\,000 participants from all over the world. It’s also one of the most challenging marathons\, with a hilly course that takes runners through some of Tokyo’s most iconic landmarks\, such as the Imperial Palace\, Tokyo Tower\, and Ginza. The race is also famous for its impeccable organization\, enthusiastic volunteers\, and crowds of cheering supporters that line the streets\, making for a truly unforgettable experience. \n[optin-monster slug=”u9ogigt36k4zbwkxi5az” followrules=”true”] \nThe Tokyo Marathon takes place every year in late February or early March\, typically on the last Sunday of the month. The race starts in the Shinjuku area and finishes in front of Tokyo Station\, covering a total distance of 42.195 kilometers (26.219 miles). The course takes runners through the heart of Tokyo\, including both major business and tourist districts\, making it both scenic and challenging. \nThe Criteria:\nIf you’re thinking of participating in the Tokyo Marathon\, be prepared to compete with some of the world’s best runners. The race is open to all runners aged 19 and above\, but you must have completed a full marathon within a specific timeframe to be eligible to enter. The deadline for registration is usually in August\, so be sure to check the marathon’s official website for more information on how to sign up and eligibility criteria. \nThe Community:\nThe Tokyo Marathon is much more than just a race. It’s a celebration of health\, fitness\, and the international community. There are many events and activities that take place in the days leading up to the race\, such as the Tokyo Marathon Expo\, running clinics\, and social gatherings for runners from around the world. This makes the Tokyo Marathon a truly unique and enriching experience\, not just for runners\, but for anyone looking to explore Tokyo and immerse themselves in Japanese culture. \nIn conclusion\, the Tokyo Marathon is an event like no other\, offering a challenging and unforgettable race experience in one of the world’s most vibrant cities. Whether you’re an elite runner or a first-time participant\, the Tokyo Marathon is a journey that combines world-class athletics\, cultural exploration\, and personal achievement. So why not start planning your trip to Tokyo and take part in this incredible event? We hope you found this blog post informative and inspirational. Happy running! \nCheck out our race catalog for more exciting races.
URL:https://whatracetorun.com/event/tokyo-marathon/
LOCATION:Tokyo Marathon | Location\, 2-chōme-8-1 Nishishinjuku\, Shinjuku City\, Tokyo\, 163-8001\, Japan
CATEGORIES:Road Races
ATTACH;FMTTYPE=image/jpeg:https://whatracetorun.com/wp-content/uploads/2023/06/428e07f-e413-23ba-f207-db251c4ae530_louie-martinez-IocJwyqRv3M-unsplash.jpg
END:VEVENT
END:VCALENDAR