BEGIN:VCALENDAR
VERSION:2.0
PRODID:-//What Race To Run - ECPv6.15.20//NONSGML v1.0//EN
CALSCALE:GREGORIAN
METHOD:PUBLISH
X-WR-CALNAME:What Race To Run
X-ORIGINAL-URL:https://whatracetorun.com
X-WR-CALDESC:Events for What Race To Run
REFRESH-INTERVAL;VALUE=DURATION:PT1H
X-Robots-Tag:noindex
X-PUBLISHED-TTL:PT1H
BEGIN:VTIMEZONE
TZID:UTC
BEGIN:STANDARD
TZOFFSETFROM:+0000
TZOFFSETTO:+0000
TZNAME:UTC
DTSTART:20260101T000000
END:STANDARD
END:VTIMEZONE
BEGIN:VEVENT
DTSTART;TZID=UTC:20270727T080000
DTEND;TZID=UTC:20270727T100000
DTSTAMP:20260423T030354
CREATED:20260422T032656Z
LAST-MODIFIED:20260422T042737Z
UID:37005-1816675200-1816682400@whatracetorun.com
SUMMARY:Two Oceans Marathon (Awaiting 2027 Race Date)
DESCRIPTION:Cape Town\, a city renowned for its stunning landscapes and vibrant culture\, plays host to one of the most breathtaking and challenging marathons in the world: the Two Oceans Marathon. Often referred to as “the world’s most beautiful marathon\,” this iconic event attracts thousands of runners from across the globe each year. Let’s delve into what makes the Two Oceans Marathon an unmissable experience for both seasoned runners and enthusiastic spectators. \nA Race Like No Other\nThe Two Oceans Marathon\, held annually on Easter Saturday\, offers two main race categories: the Ultra Marathon and the Half Marathon. The Ultra Marathon spans 56 kilometers (approximately 34.8 miles) and takes participants on a scenic route around the Cape Peninsula. Meanwhile\, the Half Marathon\, at 21.1 kilometers (13.1 miles)\, provides a shorter but equally picturesque challenge. \nThe Ultra Marathon: A Breathtaking Journey\nThe Ultra Marathon route is designed to showcase the incredible diversity of Cape Town’s landscapes. Starting in Newlands\, runners traverse through the leafy suburbs\, ascend the challenging Chapman’s Peak Drive\, and make their way along the Atlantic coastline. The race continues past the quaint fishing village of Hout Bay and over the daunting Constantia Nek before finishing at the University of Cape Town. \nChapman’s Peak Drive\, with its dramatic cliffs and sweeping ocean views\, is often considered the highlight of the race. However\, the climb up Constantia Nek serves as the ultimate test of endurance\, pushing even the most experienced marathoners to their limits. \nThe Half Marathon: A Scenic Challenge\nFor those seeking a slightly less demanding yet equally rewarding experience\, the Half Marathon offers an excellent alternative. This race starts in Main Road\, Newlands\, leading runners through the historic suburbs of Rondebosch\, Claremont\, and Newlands\, before culminating at the University of Cape Town. The route\, lined with enthusiastic spectators\, provides a festive atmosphere that keeps runners motivated throughout. \nMore Than Just a Race\nThe Two Oceans Marathon is more than just a running event; it’s a celebration of community\, culture\, and the spirit of sportsmanship. The Expo preceding the race is a highlight\, featuring a variety of exhibitors\, workshops\, and speakers\, all aimed at inspiring and preparing participants. \nAdditionally\, the marathon supports numerous charitable causes through the Two Oceans Marathon Initiative (TOMI). Runners are encouraged to raise funds for various beneficiaries\, making a positive impact on local communities. \nTips for Participants\n\nTraining: With the marathon’s diverse terrain and elevation changes\, comprehensive training is essential. Incorporate hill training and long runs into your regimen to build stamina and strength.\nHydration and Nutrition: Cape Town’s weather can be unpredictable\, so stay hydrated and fuel your body appropriately during the race.\nGear: Invest in good-quality running shoes and gear suitable for varying weather conditions.\nEnjoy the Scenery: While it’s easy to focus solely on the race\, take moments to appreciate the stunning surroundings. The beauty of the route is a unique aspect of this marathon.\n\nThe Two Oceans Marathon is a true testament to the beauty and challenge of long-distance running. Whether you’re an ultra-marathoner or a half-marathon enthusiast\, this event offers an unforgettable experience amidst some of the most picturesque landscapes imaginable. Join the thousands of runners who flock to Cape Town each year and be part of this extraordinary celebration of athleticism and community spirit. \nAre you ready to take on the world’s most beautiful marathon? Lace up your running shoes and embark on the adventure of a lifetime at the Two Oceans Marathon.
URL:https://whatracetorun.com/event/two-oceans-marathon/
ATTACH;FMTTYPE=image/png:https://whatracetorun.com/wp-content/uploads/2026/04/37005-two-oceans-marathon-scaled.png
END:VEVENT
END:VCALENDAR