BEGIN:VCALENDAR
VERSION:2.0
PRODID:-//What Race To Run - ECPv6.15.20//NONSGML v1.0//EN
CALSCALE:GREGORIAN
METHOD:PUBLISH
X-WR-CALNAME:What Race To Run
X-ORIGINAL-URL:https://whatracetorun.com
X-WR-CALDESC:Events for What Race To Run
REFRESH-INTERVAL;VALUE=DURATION:PT1H
X-Robots-Tag:noindex
X-PUBLISHED-TTL:PT1H
BEGIN:VTIMEZONE
TZID:UTC
BEGIN:STANDARD
TZOFFSETFROM:+0000
TZOFFSETTO:+0000
TZNAME:UTC
DTSTART:20250101T000000
END:STANDARD
END:VTIMEZONE
BEGIN:VEVENT
DTSTART;VALUE=DATE:20260419
DTEND;VALUE=DATE:20260420
DTSTAMP:20260419T174431
CREATED:20230610T043221Z
LAST-MODIFIED:20251220T034342Z
UID:3831-1776556800-1776643199@whatracetorun.com
SUMMARY:Vancouver Sun Run
DESCRIPTION:Beauty On The Run In Canada\nThe Vancouver Sun Run is an annual event that has been held since 1985\, bringing together people of all ages and fitness levels to participate in a 10-kilometer run\, jog\, or walk. Whether you are a seasoned runner or a beginner\, the Vancouver Sun Run is the perfect opportunity to test your limits\, challenge yourself\, and have fun with your friends and family. With the 2023 edition just around the corner\, it’s time to start preparing for the race. In this blog post\, we will provide you with everything you need to know to run your best Vancouver Sun Run ever. \n1. Get in shape:\nThe Vancouver Sun Run is a challenging course that requires a good level of physical fitness. To prepare for the race\, you need to start training at least eight weeks in advance. Begin by building your base mileage with slow and steady runs\, and gradually increase your weekly mileage by 10%. Focus on running at a comfortable pace that allows you to cover the distance without exhausting yourself. Additionally\, incorporate strength training and stretching exercises into your routine to improve your endurance\, flexibility\, and balance. \n[optin-monster slug=”u9ogigt36k4zbwkxi5az” followrules=”true”] \n2. Dress for success:\nYour choice of clothing and footwear can make or break your race experience. When selecting your running outfit\, opt for lightweight\, breathable\, and moisture-wicking materials that keep you cool and dry. Avoid cotton and baggy clothes that may chafe\, rub\, or weigh you down. Wear proper running shoes that provide cushioning\, support\, and a comfortable fit. Make sure to break in your shoes before the race to avoid blisters\, sores\, or injuries. \n3. Fuel your body:\nRunning a 10K requires a lot of energy and hydration. Make sure to eat a balanced and nutritious diet that includes complex carbs\, lean protein\, healthy fats\, and vitamins and minerals. Avoid processed and sugary foods that may cause spikes and crashes in your blood sugar levels. Hydrate regularly with water\, electrolyte drinks\, and sports gels or chews. Aim to drink at least 8 ounces of water per mile of running. \n\n \n4. Pace yourself:\nThe Vancouver Sun Run is not a sprint\, but a marathon. You need to pace yourself properly to avoid burning out too soon. Start the race at a comfortable pace that allows you to settle into your rhythm and conserve your energy. Maintain a steady pace throughout the course and avoid sudden accelerations or decelerations. Use landmarks\, music\, or a running watch to help you monitor your speed and distance. Walk or slow down if you feel tired or breathless\, but don’t give up. \n5. Enjoy the journey:\nThe Vancouver Sun Run is not just about crossing the finish line\, but about enjoying the journey. Take in the beautiful scenery\, cheer on your fellow runners\, and soak up the positive and vibrant atmosphere. Stay motivated and inspired by thinking about your reasons for running\, whether it’s for yourself\, a loved one\, a charity\, or a personal achievement. Smile\, high-five\, and wave at the crowds\, and don’t forget to celebrate your accomplishment when you cross the finish line. \nCheck out our race catalog for more exciting races.
URL:https://whatracetorun.com/event/vancouver-sun-run/
LOCATION:Vancouver Sun Run | Location\, 777 Pacific Blvd\, Vancouver\, British Columbia\, V6B 4Y8\, Canada
CATEGORIES:Road Races
ATTACH;FMTTYPE=image/jpeg:https://whatracetorun.com/wp-content/uploads/2023/06/b0b0062-50c3-4ffa-8abd-b5bad2ce_brayden-law-QibVt4TcPQ4-unsplash-scaled.jpg
END:VEVENT
END:VCALENDAR