BEGIN:VCALENDAR
VERSION:2.0
PRODID:-//What Race To Run - ECPv6.15.20//NONSGML v1.0//EN
CALSCALE:GREGORIAN
METHOD:PUBLISH
X-WR-CALNAME:What Race To Run
X-ORIGINAL-URL:https://whatracetorun.com
X-WR-CALDESC:Events for What Race To Run
REFRESH-INTERVAL;VALUE=DURATION:PT1H
X-Robots-Tag:noindex
X-PUBLISHED-TTL:PT1H
BEGIN:VTIMEZONE
TZID:Africa/Abidjan
BEGIN:STANDARD
TZOFFSETFROM:+0000
TZOFFSETTO:+0000
TZNAME:GMT
DTSTART:20230101T000000
END:STANDARD
END:VTIMEZONE
BEGIN:VEVENT
DTSTART;TZID=Africa/Abidjan:20240302T070000
DTEND;TZID=Africa/Abidjan:20240302T150000
DTSTAMP:20260419T174942
CREATED:20230823T211942Z
LAST-MODIFIED:20230823T211942Z
UID:7506-1709362800-1709391600@whatracetorun.com
SUMMARY:Varadero International Marathon
DESCRIPTION:Are you a running enthusiast looking for a unique destination? Look no further than the Varadero International Marathon! This annual race in Cuba’s most famous beach town offers runners a chance to combine their passion for running with a tropical vacation. Here’s everything you need to know about this exciting race. \n1. Race Details:\nThe Varadero International Marathon takes place each April\, attracting runners from around the world. The race offers a full marathon\, half marathon\, and 10K option\, so there’s something for runners of all levels. The course takes runners along the beautiful Varadero coast\, offering stunning views along the way. Participants can expect a well-organized event with plenty of support along the route. \n[optin-monster slug=”u9ogigt36k4zbwkxi5az” followrules=”true”] \n2. Registration and Travel:\nInterested participants can easily register online on the official marathon website. Travel to Varadero is relatively easy\, with many direct flights available from major cities in Canada\, the US\, and Europe. Runners should plan to arrive a few days before the race to acclimate to the Caribbean climate and enjoy all the area has to offer. \n3. Accommodations and Activities:\nVaradero is known for its stunning beaches and all-inclusive resorts. Participants can choose from a range of hotel options\, many of which offer special rates and amenities for marathon participants. When not running\, there are plenty of activities to enjoy\, including snorkeling\, swimming with dolphins\, and exploring nearby Havana. \n4. Local Culture:\nOne of the best parts of the Varadero International Marathon is the opportunity to experience Cuba’s unique culture. From the lively music scene to the delicious cuisine\, runners will be immersed in the country’s rich history and traditions. Make sure to take time to explore the area and interact with locals to take full advantage of this incredible destination. \n5. Post-Race Celebrations:\nAfter crossing the finish line\, participants can celebrate with a cold drink and a dip in the turquoise sea. The day after the race offers the perfect opportunity for a recovery walk along the beach\, or a leisurely day exploring the town. As the night falls\, there are plenty of party options to choose from\, including beach parties\, live music\, and more. \nFrom the stunning coastal route to the vibrant local culture\, the Varadero International Marathon is truly a unique destination to experience. Whether you’re a seasoned runner or just getting started\, this event offers something for everyone. So why not start planning your next tropical running adventure today? \nCheck out our race catalog for more exciting races.
URL:https://whatracetorun.com/event/varadero-international-marathon/
LOCATION:Varadero International Marathon | Location\, Varadero\, Cuba
CATEGORIES:Road Races
ATTACH;FMTTYPE=image/jpeg:https://whatracetorun.com/wp-content/uploads/2023/08/gower-brown-oPSYwIZJxxs-unsplash-scaled-PnCgCFtmp_.jpg
END:VEVENT
END:VCALENDAR