BEGIN:VCALENDAR
VERSION:2.0
PRODID:-//What Race To Run - ECPv6.15.20//NONSGML v1.0//EN
CALSCALE:GREGORIAN
METHOD:PUBLISH
X-WR-CALNAME:What Race To Run
X-ORIGINAL-URL:https://whatracetorun.com
X-WR-CALDESC:Events for What Race To Run
REFRESH-INTERVAL;VALUE=DURATION:PT1H
X-Robots-Tag:noindex
X-PUBLISHED-TTL:PT1H
BEGIN:VTIMEZONE
TZID:UTC
BEGIN:STANDARD
TZOFFSETFROM:+0000
TZOFFSETTO:+0000
TZNAME:UTC
DTSTART:20250101T000000
END:STANDARD
END:VTIMEZONE
BEGIN:VEVENT
DTSTART;VALUE=DATE:20260228
DTEND;VALUE=DATE:20260301
DTSTAMP:20260419T144214
CREATED:20230612T231641Z
LAST-MODIFIED:20250911T075550Z
UID:3879-1772262000-1772283600@whatracetorun.com
SUMMARY:Zion Half Marathon
DESCRIPTION:Experience the Beauty and Challenge of the Zion Half Marathon\nAre you an avid runner looking for your next challenge? Look no further than the Zion Half Marathon. Held annually in the stunning Zion National Park\, this race is not only a test of physical endurance but a treat for the senses. In this blog post\, we’ll explore everything you need to know about the Zion Half Marathon\, including what to expect on race day\, training tips\, and why this race is a must-do for runners of all levels. \nThe Course:\nFirst things first\, let’s talk about the race itself. The Zion Half Marathon is a 13.1-mile course that winds through some of the most breathtaking scenery in the country. The course begins in the town of Virgin\, Utah\, and quickly climbs into the heart of Zion National Park. Runners will pass through picturesque red rock canyons\, alongside the Virgin River\, and up to the finish line at the Zion Canyon Village. The course is challenging\, with several steep inclines and descents\, but the stunning views and invigorating atmosphere make it all worthwhile. \n[optin-monster slug=”u9ogigt36k4zbwkxi5az” followrules=”true”] \nThe Training:\nNow\, let’s talk about training. If you’re planning on running the Zion Half Marathon\, it’s important to start training well in advance. We recommend a training plan of at least 12 weeks\, incorporating both cardiovascular exercise and strength training. Hill repeats and trail running are especially beneficial for preparing your body for the elevations and varied terrain of the course. Additionally\, it’s a good idea to practice running in all weather conditions—after all\, race day could bring sunshine\, wind\, or even a little rain. \nThe Preparation:\nAnother important factor to consider when preparing for the Zion Half Marathon is hydration and nutrition. The race takes place in the desert\, so staying hydrated is crucial for both performance and safety. We recommend drinking plenty of water in the week leading up to the race\, as well as carrying water or a hydration pack during the race itself. As for nutrition\, it’s important to fuel your body with a balance of carbohydrates and protein leading up to race day. On the morning of the race\, a light breakfast such as a bagel with peanut butter and a banana can help provide the energy you need to power through those tough hills. \n\n \nThe Event:\nNow that you’re prepped and ready for race day\, let’s talk about why the Zion Half Marathon is such a special event. For starters\, the race offers a unique opportunity to connect with nature in one of the country’s most iconic national parks. The challenging course and stunning scenery create an unforgettable experience for runners. Additionally\, the Zion Half Marathon is a small race\, with a limit of just 1\,500 participants\, ensuring a sense of community and camaraderie among runners. \nIf you’re a fan of running and exploring the great outdoors\, the Zion Half Marathon is an event not to be missed. From the challenging course to the stunning scenery\, this race offers a one-of-a-kind experience for runners of all levels. So lace up your running shoes\, start training\, and get ready to take on the Zion Half Marathon. We guarantee it will be a race you’ll never forget. \nCheck out our race catalog for more exciting races.
URL:https://whatracetorun.com/event/zion-half-marathon/
LOCATION:Zion Half Marathon | Location\, 147 Zion Park Blvd\, Springdale\, UT\, 84767\, United States
CATEGORIES:Road Races,Trail Races
ATTACH;FMTTYPE=image/png:https://whatracetorun.com/wp-content/uploads/2023/06/Race-Featured-Images-5.png
END:VEVENT
END:VCALENDAR