BEGIN:VCALENDAR
VERSION:2.0
PRODID:-//What Race To Run - ECPv6.15.20//NONSGML v1.0//EN
CALSCALE:GREGORIAN
METHOD:PUBLISH
X-ORIGINAL-URL:https://whatracetorun.com
X-WR-CALDESC:Events for What Race To Run
REFRESH-INTERVAL;VALUE=DURATION:PT1H
X-Robots-Tag:noindex
X-PUBLISHED-TTL:PT1H
BEGIN:VTIMEZONE
TZID:UTC
BEGIN:STANDARD
TZOFFSETFROM:+0000
TZOFFSETTO:+0000
TZNAME:UTC
DTSTART:20230101T000000
END:STANDARD
END:VTIMEZONE
BEGIN:VTIMEZONE
TZID:Africa/Abidjan
BEGIN:STANDARD
TZOFFSETFROM:+0000
TZOFFSETTO:+0000
TZNAME:GMT
DTSTART:20230101T000000
END:STANDARD
END:VTIMEZONE
BEGIN:VEVENT
DTSTART;VALUE=DATE:20260221
DTEND;VALUE=DATE:20260223
DTSTAMP:20260420T130101
CREATED:20230610T013651Z
LAST-MODIFIED:20250911T075218Z
UID:3764-1771657200-1771765200@whatracetorun.com
SUMMARY:Rock 'n' Roll Las Vegas Races
DESCRIPTION:A Run To Remember in Viva Las Vegas\nFor avid runners looking to step up their game\, Las Vegas is the ultimate destination. This vibrant city hosts one of the most exciting and challenging running events in the country\, the Las Vegas Half Marathon\, 10k\, and 5k. The event is held annually\, attracting thousands of participants from all over the world. If you love running and adventure\, then the Las Vegas Half Marathon is a perfect fit for you. Keep on reading to discover what this amazing event has to offer. \n1. A Stunning Venue\nThe Las Vegas Half Marathon takes place on the iconic Las Vegas Boulevard\, arguably one of the most famous streets in the world. The race starts and finishes at the Las Vegas Festival Grounds\, a beautiful venue located near the city’s most popular attractions. From the start to the end of the race\, you’ll experience the vibrant city’s unforgettable energy and excitement. \n[optin-monster slug=”u9ogigt36k4zbwkxi5az” followrules=”true”] \n2. A Variety of Distances\nThe Las Vegas Half Marathon is a popular event\, but it is not just for elite runners. It caters to everyone\, regardless of skill level\, with three different race distances. The 5k and 10k races provide a great opportunity for beginners\, while the Half Marathon challenges experienced runners to push their limits. \n3. The Ultimate Night Race\nThe Las Vegas Half Marathon is a night race\, providing an incredible experience that you will not find anywhere else. Running at night is an enjoyable and unique experience that adds to the overall excitement of the race. The route is also well-lit\, and you will feel safe and secure throughout the entire event. \n4. Entertainment on the Course\nThe Las Vegas Half Marathon is not just about running. The event is full of entertainment that will keep you entertained throughout the course. You will find DJs\, live bands\, and spectators cheering for you and providing essential support as you run. The running course is one of the most exciting routes\, featuring the stunning Las Vegas skyline\, historic landmarks\, and the famous Las Vegas Strip. \n5. A True Vegas Experience\nThe Las Vegas Half Marathon is more than just a running event; it’s a complete Vegas experience. You can take in everything that Las Vegas has to offer\, from visiting world-class hotels\, casinos and the best restaurants to enjoy mouth-watering cuisine. You can also explore the stunning natural attractions that surround the city for an unforgettable experience. \nThe Las Vegas Half Marathon is a fantastic event that challenges experienced and beginner runners while offering them a true Vegas experience. The race is held in an iconic venue\, featuring different distances that cater to anyone regardless of skill level\, and offers entertainment on the course. The event’s night race provides a unique and exciting experience that will leave you with unforgettable memories. With all this in mind\, you can’t afford to miss out on the Las Vegas Half Marathon. So start training now\, and we hope to see you at the starting line! \nCheck out our race catalog for more exciting races.
URL:https://whatracetorun.com/event/las-vegas-half-marathon-10k-and-5k/
LOCATION:Rock N’ Roll Las Vegas | Location\, 3667 S Las Vegas Blvd\, Las Vegas\, NV\, 89109\, United States
CATEGORIES:Night Races,Road Races
ATTACH;FMTTYPE=image/jpeg:https://whatracetorun.com/wp-content/uploads/2023/06/c4b662c-8cdf-6618-260-5a52f3b024a8_grant-cai-9xjdQ8-zLKI-unsplash.jpg
END:VEVENT
BEGIN:VEVENT
DTSTART;TZID=UTC:20250504T080000
DTEND;TZID=UTC:20250504T170000
DTSTAMP:20260420T130101
CREATED:20240725T224643Z
LAST-MODIFIED:20240725T224643Z
UID:36963-1746345600-1746378000@whatracetorun.com
SUMMARY:Wings For Life World Run
DESCRIPTION:Every year\, tens of thousands of people from around the globe lace up their running shoes to participate in the Wings for Life World Run. This unique race brings together runners\, wheelchair participants\, and supporters from various countries\, all united by a shared goal: to find a cure for spinal cord injury. But what makes this event truly special? Let’s delve into the details. \nThe Cause: Running for Spinal Cord Research\nThe Wings for Life World Run is more than just a race; it’s a movement driven by compassion and purpose. Organized by the non-profit foundation Wings for Life\, 100% of entry fees and donations are directed towards cutting-edge research projects aimed at finding a cure for spinal cord injury. Since its inception in 2014\, the event has raised millions of dollars\, funding groundbreaking studies and innovative treatments that bring hope to millions of people living with spinal cord injuries. \nThe Format: A Race with No Finish Line\nUnlike traditional races\, the Wings for Life World Run has no fixed finish line. Instead\, participants start running simultaneously worldwide\, either as part of organized events or individually using the Wings for Life World Run app. Thirty minutes after the start\, a “Catcher Car” begins to follow the runners\, gradually increasing its speed. Once the car passes a participant\, their race is over. This format ensures that everyone can partake\, regardless of their fitness level\, and it adds an element of unpredictability and excitement to the race. \nGlobal Participation: Unity Across Continents\nOne of the most remarkable aspects of the Wings for Life World Run is its global reach. The event takes place in numerous cities across different time zones\, creating a wave of momentum that spans continents. From beginners to elite athletes\, everyone runs together\, fostering a sense of unity and solidarity. Each step taken is a step closer to a world where spinal cord injuries can be cured. \nPersonal Stories: Inspiration and Determination\nBehind every participant is a story of inspiration and determination. Many run in honor of loved ones affected by spinal cord injuries; others are driven by personal experiences. The event highlights these stories\, showcasing the resilience and strength of the human spirit. Participants often share their journeys on social media\, spreading awareness and encouraging others to join the cause. \nHow to Get Involved\nGetting involved in the Wings for Life World Run is easy and impactful. Here’s how you can contribute: \n\nRegister: Sign up for the race through the official Wings for Life World Run website or app.\nFundraise: Encourage friends and family to support your run by donating to the cause.\nSpread the Word: Use social media to share your participation\, inspiring others to join and contribute.\nVolunteer: If running isn’t your thing\, consider volunteering at one of the organized events.\n\nConclusion: Every Step Counts\nThe Wings for Life World Run is more than a race; it’s a symbol of hope and community. By participating\, you’re not just running for yourself; you’re running for those who can’t. Together\, we can make strides towards curing spinal cord injuries and changing lives around the world. \nWhether you’re a seasoned runner or new to the sport\, joining the Wings for Life World Run is a meaningful way to make a difference. Lace up your shoes and become part of a global movement dedicated to a future where spinal cord injuries are a thing of the past. \nCheck out our race catalog for more exciting races.
URL:https://whatracetorun.com/event/wings-for-life-world-run/
LOCATION:Wings For Life World Run
CATEGORIES:Night Races
ATTACH;FMTTYPE=image/png:https://whatracetorun.com/wp-content/uploads/2024/07/Race-Featured-Images-35.png
END:VEVENT
BEGIN:VEVENT
DTSTART;TZID=Africa/Abidjan:20240817T170000
DTEND;TZID=Africa/Abidjan:20240817T230000
DTSTAMP:20260420T130101
CREATED:20240125T223306Z
LAST-MODIFIED:20240126T135657Z
UID:36565-1723914000-1723935600@whatracetorun.com
SUMMARY:AREA 13.1 Half Marathon\, 10k & 5k
DESCRIPTION:Are you ready to lace up your shoes and hit the pavement in the upcoming Area 13.1 Half Marathon\, 10k\, and 5k? This exciting night race is set in Roswell\, Georgia\, is perfect for beginners and seasoned runners alike. With a course designed to encourage speed\, the Area 13.1 race is a fantastic opportunity to get active\, meet new people\, and bring out your competitive spirit. In this blog post\, we’ll explore everything you need to know before you take on the Area 13.1 race. \n1. Get Your Training Plan in Place:\nTo tackle the Area 13.1 race\, you’ll need to put in some serious training. So\, the first thing you need to do is set up a training plan that will help you get prepared for race day. Depending on your fitness level\, it may take between 12 to 20 weeks to get ready for this event. A training plan will help you build endurance\, enhance your cardiovascular fitness\, and strengthen your muscles. If you don’t have a running coach\, plenty of online resources offer free training plans. \n[optin-monster slug=”u9ogigt36k4zbwkxi5az” followrules=”true”] \n2. Learn the Course and Race-Day Logistics:\nBefore the race\, it’s important to get to know the course and race-day logistics. You can find this information on the event website or social media channels. The race will start and finish at Riverside Park in Roswell\, Georgia and offer a challenging course filled with scenic views. The organizers will provide detailed information on the packet pick-up\, race-day parking\, and start times. \n3. Get Your Gear Ready:\nAside from your training and course research\, you will also need to get your gear ready. Running gear is essential for any runner\, and it’s important to make sure yours is comfortable\, fits well and provides good support. You don’t need to invest in expensive gear as long as you have the basics covered. Running shoes\, socks\, and comfortable clothing are a must-have. \n4. Hydration and Nutrition:\nProper hydration and nutrition are essential for race-day success. Adequate fluid intake helps maintain your body temperature\, lubricates your joints\, and prevents dehydration. In general\, it’s recommended that you drink at least six to eight ounces of water or sports drink every 20 minutes during the race. In terms of nutrition\, you should also make sure you eat balanced meals a few days before the race. It’s also a good idea to eat a carb-rich meal the night before the race to help fuel your body. \n5. Post-Race Recovery:\nAfter the race\, it’s important to take it easy and recover properly. This includes drinking plenty of fluids\, taking a rest day or two\, eating a healthy meal\, and stretching your muscles. A proper post-race recovery plan will help you feel better\, reduce the risk of injuries\, and prepare you for your next running adventure. \nThere you have it\, everything you need to know to tackle the Area 13.1 Half Marathon\, 10k\, and 5k. Remember to start your training plan early\, learn the course and race-day logistics\, get your gear ready\, hydrate and eat well\, and take care of your body after the race. With these tips and a little bit of determination\, you’ll be ready to conquer this exciting running event and cross the finish line with a smile on your face. Good luck and happy running! \n 
URL:https://whatracetorun.com/event/area-13-1-half-marathon-10k-5k-2/
LOCATION:Area 13.2 Half Marathon\, 10k & 5k | Location\, 575 Riverside Road\, Roswell\, Georgia\, 30075\, United States
CATEGORIES:Night Races,Road Races
ATTACH;FMTTYPE=image/jpeg:https://whatracetorun.com/wp-content/uploads/2023/07/area_13.1_half_marathon_10k_and_5k.jpg
END:VEVENT
BEGIN:VEVENT
DTSTART;TZID=UTC:20240810T210000
DTEND;TZID=UTC:20240811T023000
DTSTAMP:20260420T130101
CREATED:20240807T185059Z
LAST-MODIFIED:20240807T185150Z
UID:37104-1723323600-1723343400@whatracetorun.com
SUMMARY:Marathon Pour Tous- Paris 2024
DESCRIPTION:When we think of the Olympic marathon\, we often imagine elite athletes pushing the limits of human endurance. This year\, however\, the Olympic spirit extends beyond professional runners to include “regular” runners from all walks of life. Welcome to the “If Not\, Now You Do” initiative\, also known as the Marathon Pour Tous. \nA Historic Opportunity\nThis unique event makes history by opening the prestigious Olympic marathon route to everyday runners for the first time. Scheduled for the evening of August 10\, the Marathon Pour Tous invites over 20\,000 participants to lace up their running shoes and experience the magic of running through the City of Lights at night. \nThe Race Details\nThe Marathon Pour Tous will feature two main events: \n\n\n\nFull Marathon: Covering the classic 42.195 kilometers\, this race allows participants to follow in the footsteps of Olympians\, navigating the same iconic streets and landmarks.\n10K Race: For those who prefer a shorter distance\, the 10K offers a more accessible challenge while still capturing the essence of the Olympic marathon routes. \n\n\n\nBoth races promise an unforgettable experience\, combining the thrill of competition with the enchantment of running under the Parisian night sky. \nWhy Participate?\nExperience the Olympic Spirit\nRunning the same route as the Olympic marathoners is a once-in-a-lifetime opportunity that allows you to immerse yourself in the Olympic spirit. Feel the energy\, excitement\, and camaraderie that define the world’s greatest sporting event. \nExplore Paris Like Never Before\nParis is renowned for its beauty\, history\, and charm. Running through the city at night provides a unique perspective\, highlighting the illuminated landmarks and vibrant atmosphere that make Paris truly magical. \nJoin a Global Community\nThe Marathon Pour Tous brings together runners from around the world\, fostering a sense of global unity and shared accomplishment. Whether you’re running the full marathon or the 10K\, you’ll be part of a diverse and supportive community of fellow enthusiasts. \nAchieve a Personal Milestone\nParticipating in the Marathon Pour Tous is not just about running; it’s about setting and achieving personal goals. Completing either race is a significant milestone that will leave you with a profound sense of pride and accomplishment. \nHow to Prepare\nTraining for a marathon or 10K requires dedication and preparation. Here are a few tips to help you get ready: \n\n\n\nCreate a Training Plan: Establish a training schedule that gradually increases your mileage and includes rest days for recovery.\nStay Hydrated and Nourished: Proper hydration and nutrition are crucial for endurance running. Focus on a balanced diet and stay well-hydrated\, especially during long runs.\nIncorporate Strength Training: Build strength and prevent injuries by incorporating strength training exercises into your routine.\nRun at Night: Since the race is held in the evening\, try to include some night runs in your training to acclimate your body to running after dark.\n\n\n\nThe Marathon Pour Tous is more than just a race; it’s a celebration of the Olympic spirit\, inclusivity\, and the joy of running. Whether you’re a seasoned marathoner or a first-time participant\, this event offers a unique chance to be part of something extraordinary. \nSo\, if you’ve ever dreamed of running an Olympic marathon\, now is your chance. Join us on August 10 for a night of unforgettable memories in the heart of Paris. If not\, now you do. \nAre you ready to run?
URL:https://whatracetorun.com/event/marathon-pour-tous-in-paris/
LOCATION:Marathon Pour Tous\, Paris\, 70143\, France
CATEGORIES:Night Races,Road Races
ATTACH;FMTTYPE=image/png:https://whatracetorun.com/wp-content/uploads/2024/08/Race-Featured-Images-49.png
ORGANIZER;CN="Paris 2024":MAILTO:participants@mpt.paris2024.org
END:VEVENT
END:VCALENDAR