BEGIN:VCALENDAR
VERSION:2.0
PRODID:-//What Race To Run - ECPv6.15.20//NONSGML v1.0//EN
CALSCALE:GREGORIAN
METHOD:PUBLISH
X-WR-CALNAME:What Race To Run
X-ORIGINAL-URL:https://whatracetorun.com
X-WR-CALDESC:Events for What Race To Run
REFRESH-INTERVAL;VALUE=DURATION:PT1H
X-Robots-Tag:noindex
X-PUBLISHED-TTL:PT1H
BEGIN:VTIMEZONE
TZID:UTC
BEGIN:STANDARD
TZOFFSETFROM:+0000
TZOFFSETTO:+0000
TZNAME:UTC
DTSTART:20250101T000000
END:STANDARD
END:VTIMEZONE
BEGIN:VEVENT
DTSTART;TZID=UTC:20260919T070000
DTEND;TZID=UTC:20260919T090000
DTSTAMP:20260422T121752
CREATED:20260422T031143Z
LAST-MODIFIED:20260422T034058Z
UID:6618-1789801200-1789808400@whatracetorun.com
SUMMARY:Vermont Spartan Races
DESCRIPTION:Vermont\, known for its breathtaking landscapes\, maple syrup\, and abundance of outdoor activities\, is also home to some of the most challenging and exhilarating Spartan Races. These obstacle course races push participants to their limits\, both physically and mentally. With an increasing number of enthusiasts looking to take part\, Vermont has become a go-to destination for Spartan Races. In this blog\, we’ll dive deeper into what makes Vermont Spartan Races so special and why you should consider participating in one. \n1. The Challenge:\nVermont Spartan Races are not for the faint of heart. The courses are designed to test your physical and mental resilience\, pushing you to the limit. Expect to tackle steep inclines\, water elements\, walls\, and other obstacles that will challenge your strength\, agility\, and balance. The courses are designed to be both intense and strategic\, so you’ll need to think on your feet and make calculated decisions as you go. \n[optin-monster slug=”u9ogigt36k4zbwkxi5az” followrules=”true”] \n2. The Community:\nAlthough the races can be grueling\, one of the best things about Vermont Spartan Races is the camaraderie and support you’ll receive throughout the course. Participants from all walks of life come together to encourage and cheer each other on. Whether you’re running solo or with a team\, the sense of community is palpable\, and you’ll feel like you’re part of something bigger than just a race. \n3. The Scenery:\nVermont is known for its stunning natural beauty\, and the Spartan Race courses allow you to experience it in a whole new way. You’ll be running through forests\, across open fields\, and through streams\, all while taking in breathtaking views of the surrounding mountains. The course also includes some local landmarks\, such as the famous Joe’s Pond and the Burton Snowboards factory. \n4. The Different Race Options:\nVermont Spartan Races offer a variety of race options for all experience levels and ages. The Sprint\, the Super\, and the Beast are all designed for different levels of fitness\, with the Sprint being the shortest and easiest and the Beast being the longest and most challenging. There are also races specifically designed for kids\, so the whole family can participate. \n5. The Sense of Accomplishment:\nFinally\, there’s nothing quite like the feeling of crossing the finish line after completing a Vermont Spartan Race. Regardless of your fitness level or time\, just finishing the race is a significant accomplishment. It’s a true test of your physical and mental endurance\, and you’ll come out of it feeling stronger\, more confident\, and prouder of yourself than ever before. \nVermont Spartan Races are the perfect way to challenge yourself physically and mentally while taking in the stunning natural beauty of Vermont. The courses are designed to push you to your limits\, but the sense of community\, the breathtaking scenery\, and the feeling of accomplishment at the finish line make it all worth it. So\, if you’re looking for a new adventure or a way to challenge yourself\, consider signing up for a Vermont Spartan Race. You won’t regret it. \nCheck out our race catalog for more exciting races. \n  \n 
URL:https://whatracetorun.com/event/vermont-spartan-races/
LOCATION:Vermont Spartan Races | Location\, 4763 Killington Rd\, Killington\, Vermont\, 05751\, United States
CATEGORIES:Obstacle Races
ATTACH;FMTTYPE=image/png:https://whatracetorun.com/wp-content/uploads/2026/04/6618-vermont-spartan-races-scaled.png
END:VEVENT
END:VCALENDAR