BEGIN:VCALENDAR
VERSION:2.0
PRODID:-//What Race To Run - ECPv6.15.20//NONSGML v1.0//EN
CALSCALE:GREGORIAN
METHOD:PUBLISH
X-ORIGINAL-URL:https://whatracetorun.com
X-WR-CALDESC:Events for What Race To Run
REFRESH-INTERVAL;VALUE=DURATION:PT1H
X-Robots-Tag:noindex
X-PUBLISHED-TTL:PT1H
BEGIN:VTIMEZONE
TZID:UTC
BEGIN:STANDARD
TZOFFSETFROM:+0000
TZOFFSETTO:+0000
TZNAME:UTC
DTSTART:20250101T000000
END:STANDARD
END:VTIMEZONE
BEGIN:VEVENT
DTSTART;TZID=UTC:20260607T060000
DTEND;TZID=UTC:20260607T080000
DTSTAMP:20260422T173147
CREATED:20260422T031136Z
LAST-MODIFIED:20260422T035239Z
UID:4371-1780812000-1780819200@whatracetorun.com
SUMMARY:Casper Marathon Events
DESCRIPTION:Are you looking to challenge yourself with a marathon or half marathon or just trying to run with some friends in a relay? The Casper Marathon might just be what you need. In this blog\, we will provide you with all the information you need regarding the Casper 10k\, Half marathon\, Marathon Relay\, and Marathon events. Whether you’re a seasoned runner or it’s your first time participating in a race\, we’ve got you covered. \n1. The Casper 10k\nThe Casper 10k is the perfect event for those looking to push themselves or try something new. This event starts at the park and goes through the local community. It’s a great way to explore the town and enjoy the beautiful scenery while challenging yourself along the way. The race is open to all ages and is well-supported\, so even if it’s your first race\, rest assured that you’ll have plenty of support and convenience throughout the way. \n[optin-monster slug=”u9ogigt36k4zbwkxi5az” followrules=”true”] \n2. Half Marathon\nThe Half Marathon is a great challenge for runners who want to push themselves a bit further. You’ll start at the same place as the 10k participants but continue on for additional 13.1 miles. The course is not too challenging\, but it still gives you a good chance to enjoy the scenery and nature around you. \n3. Marathon Relay\nIf you want to participate in the marathon but not sure you can handle running the whole distance\, the marathon relay is a great choice. Gather a group of friends and divide the distance into four parts\, with each person running roughly 6.5 miles. This way\, you get to participate in the event\, bond with friends\, support each other\, and have some fun experiences. \n4. The Marathon\nFor those who want to challenge themselves to the fullest\, the marathon is the ultimate event. The course is a bit challenging\, with some hills\, so be prepared mentally and physically. But it’s nothing you can’t handle if you’ve prepared well in advance. The course starts early in the morning and continues till the afternoon\, and it goes through some amazing areas\, providing you with a unique and exciting race experience. \n5. How to Prepare\nTo participate in any of these events\, you need to prepare physically and mentally. Train well in advance by following a proper running schedule\, eating balanced meals\, and sleeping well. Come to the event well-rested and equipped with the right running gear and shoes. Finally\, remember to hydrate yourself throughout the race and have plenty of energy-boosting snacks on hand. \nThe Casper Marathon events offer a great opportunity for runners to challenge themselves\, have some fun with friends\, and enjoy the scenery. Whether you’re a seasoned runner or just starting\, these events offer something for everyone. So what are you waiting for? Sign up today\, prepare well\, and come enjoy the ultimate race experience. \nCheck out our race catalog for more exciting races. \n 
URL:https://whatracetorun.com/event/casper-10k-half-marathon-marathon-relay-marathon/
LOCATION:Casper 10k\, Half Marathon\, Marathon Relay & Marathon | Location\, 1 Events Dr\, Casper\, WY\, 82601\, United States
CATEGORIES:Relay Races,Road Races
ATTACH;FMTTYPE=image/png:https://whatracetorun.com/wp-content/uploads/2026/04/4371-casper-marathon-events-scaled.png
END:VEVENT
END:VCALENDAR