BEGIN:VCALENDAR
VERSION:2.0
PRODID:-//What Race To Run - ECPv6.15.20//NONSGML v1.0//EN
CALSCALE:GREGORIAN
METHOD:PUBLISH
X-ORIGINAL-URL:https://whatracetorun.com
X-WR-CALDESC:Events for What Race To Run
REFRESH-INTERVAL;VALUE=DURATION:PT1H
X-Robots-Tag:noindex
X-PUBLISHED-TTL:PT1H
BEGIN:VTIMEZONE
TZID:UTC
BEGIN:STANDARD
TZOFFSETFROM:+0000
TZOFFSETTO:+0000
TZNAME:UTC
DTSTART:20250101T000000
END:STANDARD
END:VTIMEZONE
BEGIN:VEVENT
DTSTART;TZID=UTC:20260613T090000
DTEND;TZID=UTC:20290613T235959
DTSTAMP:20260423T012245
CREATED:20260422T031331Z
LAST-MODIFIED:20260422T122617Z
UID:7504-1781341200-1876089599@whatracetorun.com
SUMMARY:Big Five Marathon
DESCRIPTION:Are you a thrill-seeking runner looking for your next big challenge? Look no further than the Big Five Marathon in the Limpopo province of South Africa. Known as the “world’s wildest marathon\,” this race is not for the faint of heart. The stunning surroundings are reason enough to take on the challenge but add in the fact that it takes place in the heart of a wildlife reserve\, and you have a once-in-a-lifetime experience. Read on to learn more about the Big Five Marathon and why you should add it to your running bucket list. \nThe Course:\nThe Big Five Marathon takes place within the Entabeni Safari Conservancy\, which means runners are surrounded by some of Africa’s most majestic wildlife. As you run the 26.2-mile course\, you’ll have the chance to see the Big Five animals: lions\, leopards\, elephants\, buffalo\, and rhinos\, along with other incredible creatures such as giraffes\, zebras\, and wildebeests. Don’t worry\, though – the course is designed with safety in mind\, and rangers closely monitor the animals to ensure the safety of participants. \n[optin-monster slug=”u9ogigt36k4zbwkxi5az” followrules=”true”] \nThe course itself is challenging\, but the scenery and wildlife make it all worth it. Runners will traverse through mountains\, valleys\, grasslands\, and riverbeds\, all while surrounded by stunning views and incredible animals. It’s a truly unique race experience that you won’t find anywhere else. \nThe Community:\nOne of the most unique aspects of the Big Five Marathon is the impact it has on the surrounding community. The race is locally organized and works closely with the villages in the surrounding area. Community members are involved in everything from the race organization to the aid stations along the course. Additionally\, a portion of the race fees go towards conservation efforts in the area\, so not only are you getting to run through the wilderness\, but you’re contributing to its preservation as well. \nThe Preparation:\nIf you’re thinking of taking on this unique marathon challenge\, there are a few important things to keep in mind. First\, be prepared for the weather – the race takes place in June\, which is the middle of winter in South Africa. Temperatures can be chilly\, so pack accordingly. Second\, make sure you are properly trained for the course. The combination of hills\, uneven terrain\, and altitude make for a challenging run. Third\, don’t forget your camera! This is a once-in-a-lifetime opportunity to see some incredible wildlife\, and you’ll want to capture the memories. \nIf you’re looking for a race experience unlike any other\, the Big Five Marathon is the perfect choice. Not only will you get to push yourself physically\, but you’ll also have the chance to see some of the world’s most incredible animals in their natural habitats. It’s a unique opportunity to combine adventure\, running\, and conservation efforts into one unforgettable experience. So lace up your shoes\, pack your bags\, and get ready to take on the world’s wildest marathon. \nCheck out our race catalog for more exciting races. \n \nRelated Races You Might Like\nLooking for more race options? Explore similar races: \n\nAdirondack Marathon Distance Festival\nAmazing Maasai Marathon\nAmsterdam Marathon\n\nSee our complete guides: Best California Races • Best San Diego Races
URL:https://whatracetorun.com/event/big-five-marathon/
LOCATION:Big Five Marathon | Location\, South Africa
CATEGORIES:Road Races,Trail Races
ATTACH;FMTTYPE=image/png:https://whatracetorun.com/wp-content/uploads/2026/04/7504-big-five-marathon-scaled.png
END:VEVENT
BEGIN:VEVENT
DTSTART;TZID=UTC:20260911T050000
DTEND;TZID=UTC:20260912T235959
DTSTAMP:20260423T012245
CREATED:20260422T031233Z
LAST-MODIFIED:20260422T040345Z
UID:36567-1789102800-1789257599@whatracetorun.com
SUMMARY:Blue Ridge Relay
DESCRIPTION:Imagine running through breathtaking scenic routes as you race against teams from all across the United States. That’s precisely what you get to experience when you participate in the Blue Ridge Relay. The Blue Ridge Relay is a once-in-a-lifetime experience for runners of all levels. The relay race takes place across the Appalachian Mountains in the southeastern United States and covers 200 miles over 36 legs. In this blog post\, we will explore what makes the Blue Ridge Relay stand out as a unique endurance race. \n1. The Route:\nThe Blue Ridge Relay route is considered one of the most picturesque routes in the United States. The race features various terrains\, including steep mountain climbs and winding country roads. The route takes runners through some of the most beautiful scenery in the area\, including the Great Smoky Mountains National Park and the Blue Ridge Parkway. The views are breathtaking\, and it’s not uncommon to see wildlife such as deer and bears. \n2. Teamwork:\nThe Blue Ridge Relay is a team event\, with teams of up to 12 runners taking part. Each runner runs three legs of varying distances and elevations. The team works together to cover the 200 miles over approximately 24 hours. The teamwork involved in this race is what makes it so unique. Runners not only need to perform well individually\, but they also need to work together to ensure they complete the relay successfully.\n \n3. The Challenge:\nThe Blue Ridge Relay is a challenging race that tests a runner’s endurance\, both mentally and physically. The terrain is tough\, and the weather conditions can vary from hot and humid to cool and rainy. The race is not for the faint-hearted\, and runners need to be in top shape to complete the challenge. The difficulty of the race is what makes it such an accomplishment to complete. \n4. The Camaraderie:\nThe Blue Ridge Relay is not just a race; it’s a social event. Runners from all across the United States come together to take part in this unique event. The race offers opportunities for runners to bond over a shared experience. The camaraderie involved in this event is what makes it so special. Runners encourage each other along the way and cheer each other on as they cross the finish line. \n5. Post-Race Experience:\nAfter completing the relay\, runners get to experience the after-race festivities. The celebration includes a post-race party where runners can relax and enjoy each other’s company. The celebration includes food\, drinks\, music\, and a chance to receive awards for completing the race. The post-race experience is a perfect way to finish the event and celebrate the teamwork and camaraderie that took place. \nThe Blue Ridge Relay is an endurance race like no other. The combination of beautiful scenery\, teamwork\, challenge\, camaraderie\, and post-race festivities makes it a unique and unforgettable experience. The race is a must for any runner who wants to test their limits and push themselves to new heights. It’s an event that is sure to create memories that will last a lifetime. It’s no wonder the Blue Ridge Relay is one of the most talked-about relay races in the United States today. So\, round up your running buddies\, register in advance\, and get ready to experience the ultimate relay race challenge. \nCheck out our race catalog for more exciting races.
URL:https://whatracetorun.com/event/blue-ridge-relay/
LOCATION:Blue Ridge Relay | Location\, 829 Grayson Highland Ln\, Mouth of Wilson\, Virginia\, 24363\, United States
CATEGORIES:Trail Races
ATTACH;FMTTYPE=image/png:https://whatracetorun.com/wp-content/uploads/2026/04/36567-blue-ridge-relay-scaled.png
END:VEVENT
END:VCALENDAR