BEGIN:VCALENDAR
VERSION:2.0
PRODID:-//What Race To Run - ECPv6.15.20//NONSGML v1.0//EN
CALSCALE:GREGORIAN
METHOD:PUBLISH
X-WR-CALNAME:What Race To Run
X-ORIGINAL-URL:https://whatracetorun.com
X-WR-CALDESC:Events for What Race To Run
REFRESH-INTERVAL;VALUE=DURATION:PT1H
X-Robots-Tag:noindex
X-PUBLISHED-TTL:PT1H
BEGIN:VTIMEZONE
TZID:UTC
BEGIN:STANDARD
TZOFFSETFROM:+0000
TZOFFSETTO:+0000
TZNAME:UTC
DTSTART:20260101T000000
END:STANDARD
END:VTIMEZONE
BEGIN:VEVENT
DTSTART;TZID=UTC:20270227T070000
DTEND;TZID=UTC:20270227T090000
DTSTAMP:20260422T174135
CREATED:20260422T031000Z
LAST-MODIFIED:20260422T041919Z
UID:3879-1803711600-1803718800@whatracetorun.com
SUMMARY:Zion Half Marathon
DESCRIPTION:Experience the Beauty and Challenge of the Zion Half Marathon\nAre you an avid runner looking for your next challenge? Look no further than the Zion Half Marathon. Held annually in the stunning Zion National Park\, this race is not only a test of physical endurance but a treat for the senses. In this blog post\, we’ll explore everything you need to know about the Zion Half Marathon\, including what to expect on race day\, training tips\, and why this race is a must-do for runners of all levels. \nThe Course:\nFirst things first\, let’s talk about the race itself. The Zion Half Marathon is a 13.1-mile course that winds through some of the most breathtaking scenery in the country. The course begins in the town of Virgin\, Utah\, and quickly climbs into the heart of Zion National Park. Runners will pass through picturesque red rock canyons\, alongside the Virgin River\, and up to the finish line at the Zion Canyon Village. The course is challenging\, with several steep inclines and descents\, but the stunning views and invigorating atmosphere make it all worthwhile. \n[optin-monster slug=”u9ogigt36k4zbwkxi5az” followrules=”true”] \nThe Training:\nNow\, let’s talk about training. If you’re planning on running the Zion Half Marathon\, it’s important to start training well in advance. We recommend a training plan of at least 12 weeks\, incorporating both cardiovascular exercise and strength training. Hill repeats and trail running are especially beneficial for preparing your body for the elevations and varied terrain of the course. Additionally\, it’s a good idea to practice running in all weather conditions—after all\, race day could bring sunshine\, wind\, or even a little rain. \nThe Preparation:\nAnother important factor to consider when preparing for the Zion Half Marathon is hydration and nutrition. The race takes place in the desert\, so staying hydrated is crucial for both performance and safety. We recommend drinking plenty of water in the week leading up to the race\, as well as carrying water or a hydration pack during the race itself. As for nutrition\, it’s important to fuel your body with a balance of carbohydrates and protein leading up to race day. On the morning of the race\, a light breakfast such as a bagel with peanut butter and a banana can help provide the energy you need to power through those tough hills. \n\n \nThe Event:\nNow that you’re prepped and ready for race day\, let’s talk about why the Zion Half Marathon is such a special event. For starters\, the race offers a unique opportunity to connect with nature in one of the country’s most iconic national parks. The challenging course and stunning scenery create an unforgettable experience for runners. Additionally\, the Zion Half Marathon is a small race\, with a limit of just 1\,500 participants\, ensuring a sense of community and camaraderie among runners. \nIf you’re a fan of running and exploring the great outdoors\, the Zion Half Marathon is an event not to be missed. From the challenging course to the stunning scenery\, this race offers a one-of-a-kind experience for runners of all levels. So lace up your running shoes\, start training\, and get ready to take on the Zion Half Marathon. We guarantee it will be a race you’ll never forget. \nCheck out our race catalog for more exciting races.
URL:https://whatracetorun.com/event/zion-half-marathon/
LOCATION:Zion Half Marathon | Location\, 147 Zion Park Blvd\, Springdale\, UT\, 84767\, United States
CATEGORIES:Road Races,Trail Races
ATTACH;FMTTYPE=image/png:https://whatracetorun.com/wp-content/uploads/2026/04/3879-zion-half-marathon-scaled.png
END:VEVENT
BEGIN:VEVENT
DTSTART;TZID=UTC:20270306T050000
DTEND;TZID=UTC:20270307T235959
DTSTAMP:20260422T174135
CREATED:20260422T030019Z
LAST-MODIFIED:20260422T042417Z
UID:4245-1804309200-1804463999@whatracetorun.com
SUMMARY:Antelope Canyon Ultras
DESCRIPTION:Antelope Canyon Ultras are known to be one of the best ultramarathon races in the world. With its challenging routes and breathtaking views\, it’s no wonder that many runners from around the globe come to this spectacular event. Located in Page\, Arizona\, this event has become a popular destination for those who love running and adventure. If you are planning to participate in Antelope Canyon Ultras or just want to know more about the event\, this blog post is for you. We have compiled the essential information you need to know about this incredible ultramarathon. \nThe Courses:\nThe Antelope Canyon Ultras offer four courses\, which are the 100 miler\, 50-miler\, 55K and half marathon. The 50-mile and 55K races are the most challenging ones\, while the half marathon and 10K are perfect for those who prefer a more relaxed pace. All of the routes take place in the canyons of the Navajo Nation\, providing a unique running experience that you won’t find anywhere else. The terrain of the courses includes sand\, rocks\, and steep inclines\, so be prepared for the physical demands of the race. \nThe Race:\nThe event typically takes place in February\, making the weather conditions unpredictable. Runners can experience anything from freezing temperatures to warm sunshine\, so it is essential to bring appropriate clothing for the varied climate. Carry enough water and snacks\, especially if you are traveling longer routes. One checkpoint station is located midway through the 50-mile and 55K races\, and two food stations are on the course to provide snacks and hydration. \n  \nThe beauty of the canyons of the Navajo Nation is a highlight of the Antelope Canyon Ultras. The runners can experience sensational views of the breathtaking sandstone formations\, the towering cliffs\, and the enchanting canyons. Racers usually leave Page\, Arizona\, before sunrise\, allowing them to watch the vibrant display of colors in the sky and witness the sunrise over the canyons. Runners are also given the privilege to experience the undisturbed beauty of the Navajo Nation. \nThe Community:\nApart from the stunning scenery\, the event also has an incredible atmosphere. This event is perfect for runners who appreciate the supportive and friendly community of ultramarathoners. The event organizers\, volunteers\, and fellow runners are welcoming\, and the runners can share stories and make new friends in this incredible event. The post-race festivities include an award ceremony\, food\, drinks\, and congratulatory handshakes and high-fives. \nAntelope Canyon Ultras are more than just a race. It is an opportunity for runners to experience breathtaking views\, challenge themselves physically and mentally\, and meet new friends in the ultramarathon community. If you are ready to make this trip\, be prepared\, train well and be sure to savor the whole experience. Remember to bring along your camera\, as you’ll want to capture the moment this epic life event you’ll never forget. So\, pack your bags and start preparing for the adventure of a lifetime. \nCheck out our race catalog for more exciting races.
URL:https://whatracetorun.com/event/antelope-canyon-ultras/
LOCATION:Antelope Canyon Ultras | Location\, 477 Haul Rd\, Page\, Arizona\, 86040\, United States
CATEGORIES:Road Races,Trail Races
ATTACH;FMTTYPE=image/png:https://whatracetorun.com/wp-content/uploads/2026/04/4245-antelope-canyon-ultras-scaled.png
END:VEVENT
BEGIN:VEVENT
DTSTART;TZID=UTC:20270410T050000
DTEND;TZID=UTC:20270410T070000
DTSTAMP:20260422T174135
CREATED:20260422T032534Z
LAST-MODIFIED:20260422T034654Z
UID:4241-1807333200-1807340400@whatracetorun.com
SUMMARY:Zion Ultra Marathon Races (Awaiting 2027 Race Date)
DESCRIPTION:Calling all trail runners and adventure enthusiasts! Are you looking for the ultimate trail running experience that combines stunning scenery\, challenging terrain\, and an unforgettable adventure? Look no further than the Zion Ultras\, one of the most iconic and challenging trail running races in the United States. \nLocated in the heart of Zion National Park\, the Zion Ultras offer a unique and exhilarating opportunity to test your limits and push your boundaries. You also get to experience the beauty of Zion National Park like never before. Whether you’re a seasoned ultrarunner or a beginner looking for your next challenge\, the Zion Ultras are an event not to be missed. \nIn this guide\, we’ll provide you with everything you need to know to prepare\, train for\, and conquer the Zion Ultras. From the history of the race to detailed course descriptions\, training tips\, and more\, we’ve got you covered. So lace up your trail shoes and let’s get started. \nHistory of the Zion Ultras:\nThe Zion Ultras have a rich history dating back over a decade. They were first established in 2008 as a 100-mile race\, making them one of the earliest ultramarathons in the country. Today\, the Zion Ultras feature four different race distances. The distances include a 100-mile\, 50-mile\, 50km\, and half marathon. The race is held annually in April and attracts runners from all over the world. \n[optin-monster slug=”u9ogigt36k4zbwkxi5az” followrules=”true”] \nRace Course Description:\nThe Zion Ultras course is one of the most challenging and breathtaking in the world. The 100-mile race boasts over 19\,000 feet of elevation gain. The course takes runners through some of the most stunning landscapes Zion National Park has to offer. From the towering cliffs of Angels Landing to the narrow slot canyons of the Zion Narrows\, the race is a true test of physical and mental endurance. \nTraining Tips:\nPreparing for the Zion Ultras requires serious dedication and training. Whether you’re a seasoned ultrarunner or a beginner looking to take on your first trail race\, there are several things you can do to ensure you’re prepared. Some tips to consider include starting with a solid base of weekly mileage\, incorporating strength training and cross-training\, and practicing proper fueling and hydration strategies. \nRace Day Tips:\nOn race day\, there are several things you can do to set yourself up for success. Some tips to consider include arriving early to allow time for warm-up and stretching. We also suggest wearing appropriate gear and footwear\, and staying focused on your race plan. It’s also important to remember to pace yourself and conserve your energy\, particularly in the early stages of the race. \nThe Zion Ultras offer a unique and challenging opportunity to experience the beauty and majesty of Zion National Park like never before. Whether you’re a seasoned ultrarunner or a beginner looking for your next adventure\, the Zion Ultras are an event not to be missed. By following these tips and strategies\, you’ll be well-prepared to tackle the course and push your limits. You’ll cross the finish line with a sense of pride and accomplishment. So what are you waiting for? Start training today and get ready to conquer the Zion Ultras! \nCheck out our race catalog for more exciting races. \n  \n 
URL:https://whatracetorun.com/event/zion-ultras/
LOCATION:Zion Ultras | Location\, Main St\, Apple Valley\, Utah\, 84737\, United States
CATEGORIES:Road Races,Trail Races
ATTACH;FMTTYPE=image/png:https://whatracetorun.com/wp-content/uploads/2026/04/4241-zion-ultra-marathon-races-scaled.png
END:VEVENT
BEGIN:VEVENT
DTSTART;TZID=UTC:20270411T070000
DTEND;TZID=UTC:20270413T235959
DTSTAMP:20260422T174135
CREATED:20260422T032538Z
LAST-MODIFIED:20260422T040024Z
UID:6598-1807426800-1807660799@whatracetorun.com
SUMMARY:Desert Rats Trail Running Festival (Awaiting 2027 Race Date)
DESCRIPTION:If you’re looking for a unique trail running experience\, the Desert RATS Trail Running Festival is the perfect event for you. Held every year on the stunning Colorado Plateau\, this festival offers trail runners a chance to tackle the harsh terrain of the desert while taking in breathtaking views of the surrounding landscape. With a variety of distances and terrains to choose from\, the Desert RATS Trail Running Festival is an event that should be on every trail runner’s bucket list. \nRace Distances:\nThe Desert RATS Trail Running Festival takes place over two days and includes several different distance options to choose from\, ranging from a 5K all the way up to a challenging 50-mile ultra run. The festival even offers a two-day stage race\, where runners complete a half marathon on the first day and a full marathon on the second day. No matter your skill level\, the festival has something for everyone to enjoy. \n[optin-monster slug=”u9ogigt36k4zbwkxi5az” followrules=”true”] \nThe Terrain:\nThe terrain at the Desert RATS Trail Running Festival is varied and includes everything from technical singletrack to wide-open dirt roads. The courses take runners through some of the most beautiful and remote parts of the Colorado Plateau\, including canyons\, mesas\, and sand dunes. Be prepared for anything when you tackle these courses – you might encounter steep climbs\, loose sand\, or rocky descents. But the rewards for completing these challenging runs are well worth it\, as each course offers stunning views of the surrounding desert landscape. \nThe Festival:\nOne of the unique aspects of the Desert RATS Trail Running Festival is the opportunity to camp at the start/finish area of the race. This creates a fun and festive atmosphere where runners can relax and socialize before and after the race. The festival also offers a variety of activities for runners and their families to enjoy\, including yoga classes\, live music\, food vendors\, and a beer garden. It’s a great way to unwind after a challenging race and celebrate your accomplishments with fellow runners. \nIf you’re not quite ready to tackle a trail race on your own\, consider signing up for a relay team with friends or family. The Desert RATS Trail Running Festival offers both two-person and four-person relay options for the 50-mile ultra race. This is a great way to experience the challenge and camaraderie of a long-distance trail run\, without taking on the entire distance by yourself. \nThe Desert RATS Trail Running Festival is an unforgettable trail running experience that offers challenging terrain\, stunning views\, and a fun\, festive atmosphere. Whether you’re a seasoned ultra runner or just getting into trail running\, this festival has something for everyone. So pack your tent\, gather your running buddies\, and head out to the desert for a weekend of trail running and adventure. We’ll see you at the start line! \nCheck out our race catalog for more exciting races.
URL:https://whatracetorun.com/event/desert-rats-trail-running-festival/
LOCATION:Desert Rats Trail Running Festival | Location\, Fruita\, Colorado\, 81521\, United States
CATEGORIES:Trail Races
ATTACH;FMTTYPE=image/png:https://whatracetorun.com/wp-content/uploads/2026/04/6598-desert-rats-trail-running-festival-scaled.png
END:VEVENT
BEGIN:VEVENT
DTSTART;TZID=UTC:20270608T080000
DTEND;TZID=UTC:20270608T100000
DTSTAMP:20260422T174135
CREATED:20260422T032559Z
LAST-MODIFIED:20260422T042558Z
UID:36995-1812441600-1812448800@whatracetorun.com
SUMMARY:Comrades Marathon (Awaiting 2027 Race Date)
DESCRIPTION:The Comrades Marathon\, often regarded as the “Ultimate Human Race\,” is an iconic ultra-marathon that has captured the hearts of runners and spectators worldwide. Held annually in South Africa\, it spans approximately 90 kilometers (56 miles) between the cities of Durban and Pietermaritzburg. This storied event not only tests physical endurance but also embodies the resilience\, camaraderie\, and unyielding spirit of its participants. \nHistorical Background:\nThe Comrades Marathon was conceived by World War I veteran Vic Clapham in 1921 as a tribute to his fallen comrades. Clapham envisioned a race that would honor their sacrifices by showcasing the physical endurance and mental fortitude required of soldiers. Today\, this legacy lives on\, with the marathon representing a powerful symbol of perseverance and unity. \nRoute and Challenges:\nThe marathon alternates annually between the “up” run from Durban to Pietermaritzburg and the “down” run from Pietermaritzburg to Durban. Each route presents its unique set of challenges: \n\nUp Run: Runners face a grueling ascent with significant elevation gain\, testing leg strength and cardiovascular endurance.\nDown Run: Although it features a net descent\, the steep declines can be punishing on the joints and muscles\, requiring strategic pacing and exceptional stamina.\n\nKey landmarks such as the “Big Five” hills—Cowies Hill\, Fields Hill\, Botha’s Hill\, Inchanga\, and Polly Shortts—add to the course’s demanding nature\, each presenting formidable obstacles that must be overcome. \nTraining and Preparation:\nTraining for the Comrades Marathon requires meticulous planning and dedication. Aspiring participants typically spend several months building their endurance\, incorporating a mix of long-distance runs\, hill workouts\, and strength training sessions. Nutrition and hydration strategies are equally crucial\, as they ensure runners can sustain energy levels and recover effectively. \nThe Spirit of Comradeship:\nWhat sets the Comrades Marathon apart is the profound sense of camaraderie and mutual support among runners. Participants often describe the race as a deeply emotional experience\, where the collective struggle fosters bonds that transcend cultural and geographical boundaries. The cheering crowds\, the encouragement from fellow runners\, and the tireless efforts of thousands of volunteers create an atmosphere of unity and shared purpose. \nPersonal Stories of Triumph:\nEvery year\, the Comrades Marathon produces countless stories of personal triumph. From first-time entrants achieving lifelong dreams to seasoned veterans chasing new milestones\, the narrative of each runner is a testament to human determination and resilience. Notable participants include those running for charitable causes\, adding an extra layer of significance to their endeavors. \nThe Comrades Marathon is more than just a race; it is a celebration of the human spirit. It challenges individuals to push beyond their limits\, honors the memory of those who have gone before\, and unites people from all walks of life in a shared pursuit of excellence. Whether you’re a participant\, a supporter\, or a spectator\, the Comrades Marathon offers a profound reminder of what can be achieved through determination\, preparation\, and unwavering support for one another. \nAre you inspired to take on the challenge? Join the ranks of those who have embraced the ultimate test of endurance and become part of the legendary Comrades Marathon legacy. \nCheck out our race catalog for more exciting races.
URL:https://whatracetorun.com/event/comrades-marathon/
LOCATION:Comrades Marathon
CATEGORIES:Trail Races
ATTACH;FMTTYPE=image/png:https://whatracetorun.com/wp-content/uploads/2026/04/36995-comrades-marathon-scaled.png
END:VEVENT
END:VCALENDAR